BEGIN:VCALENDAR
VERSION:2.0
PRODID:-//ChamberMaster//Event Calendar 2.0//EN
METHOD:PUBLISH
X-PUBLISHED-TTL:P3D
REFRESH-INTERVAL:P3D
CALSCALE:GREGORIAN
BEGIN:VEVENT
DTSTART:20190928T000000Z
DTEND:20190928T020000Z
X-MICROSOFT-CDO-ALLDAYEVENT:FALSE
SUMMARY:movie Series Bohemian Rhapsody
DESCRIPTION:SPONSORED BY WISCONSIN BANK & TRUST BOHEMIAN RHAPSODY (PG-13) Friday\, September 27\, 2019 Doors open: 6 p.m. Movie: 7 p.m. Tickets are $5 plus tax. Seating is general admission. ABOUT BOHEMIAN RHAPSODY | Biography\, Drama\, Music Bohemian Rhapsody is an enthralling celebration of Queen\, their music\, and their extraordinary lead singer Freddie Mercury\, who defied stereotypes and convention to become one of history's most beloved entertainers. Following Queen's meteoric rise\, their revolutionary sound and Freddie's solo career\, the film also chronicles the band's reunion\, and one of the greatest performances in rock history. *Please note that ending times on Facebook are possibly incorrect.
X-ALT-DESC;FMTTYPE=text/html:SPONSORED BY WISCONSIN BANK &amp\; TRUST BOHEMIAN RHAPSODY (PG-13) Friday\, September 27\, 2019 Doors open: 6 p.m. Movie: 7 p.m. Tickets are $5 plus tax. Seating is general admission. ABOUT BOHEMIAN RHAPSODY | Biography\, Drama\, Music Bohemian Rhapsody is an enthralling celebration of Queen\, their music\, and their extraordinary lead singer Freddie Mercury\, who defied stereotypes and convention to become one of history&rsquo\;s most beloved entertainers. Following Queen&rsquo\;s meteoric rise\, their revolutionary sound and Freddie&rsquo\;s solo career\, the film also chronicles the band&rsquo\;s reunion\, and one of the greatest performances in rock history. *Please note that ending times on Facebook are possibly incorrect.
LOCATION:pin Weill Center for the Performing Arts 826 N 8th St\, Sheboygan\, Wisconsin 53081
UID:e.361.14789
SEQUENCE:3
DTSTAMP:20260425T155759Z
URL:https://business.chambermanitowoccounty.org/events/details/movie-series-bohemian-rhapsody-09-27-2019-14789
END:VEVENT

END:VCALENDAR
