BEGIN:VCALENDAR
VERSION:2.0
PRODID:-//ChamberMaster//Event Calendar 2.0//EN
METHOD:PUBLISH
X-PUBLISHED-TTL:P3D
REFRESH-INTERVAL:P3D
CALSCALE:GREGORIAN
BEGIN:VEVENT
DTSTART:20190928T000000Z
DTEND:20190928T020000Z
X-MICROSOFT-CDO-ALLDAYEVENT:FALSE
SUMMARY:Movie Series: Bohemian Rhapsody
DESCRIPTION:SPONSORED BY WISCONSIN BANK & TRUST (PG-13) Doors open: 6 p.m. Movie: 7 p.m. Seating is general admission. ABOUT BOHEMIAN RHAPSODY | Biography\, Drama\, Music Bohemian Rhapsody is an enthralling celebration of Queen\, their music\, and their extraordinary lead singer Freddie Mercury\, who defied stereotypes and convention to become one of history's most beloved entertainers. Following Queen's meteoric rise\, their revolutionary sound and Freddie's solo career\, the film also chronicles the band's reunion\, and one of the greatest performances in rock history.
X-ALT-DESC;FMTTYPE=text/html:SPONSORED BY WISCONSIN BANK &amp\; TRUST (PG-13) Doors open: 6 p.m. Movie: 7 p.m. Seating is general admission. ABOUT BOHEMIAN RHAPSODY | Biography\, Drama\, Music Bohemian Rhapsody is an enthralling celebration of Queen\, their music\, and their extraordinary lead singer Freddie Mercury\, who defied stereotypes and convention to become one of history&rsquo\;s most beloved entertainers. Following Queen&rsquo\;s meteoric rise\, their revolutionary sound and Freddie&rsquo\;s solo career\, the film also chronicles the band&rsquo\;s reunion\, and one of the greatest performances in rock history.
LOCATION:Weill Center for the Performing Arts
UID:e.361.14692
SEQUENCE:3
DTSTAMP:20260425T155652Z
URL:https://business.chambermanitowoccounty.org/events/details/movie-series-bohemian-rhapsody-14692
END:VEVENT

END:VCALENDAR
