BEGIN:VCALENDAR
VERSION:2.0
PRODID:-//ChamberMaster//Event Calendar 2.0//EN
METHOD:PUBLISH
X-PUBLISHED-TTL:P3D
REFRESH-INTERVAL:P3D
CALSCALE:GREGORIAN
BEGIN:VEVENT
DTSTART:20191101T000000Z
DTEND:20191101T020000Z
X-MICROSOFT-CDO-ALLDAYEVENT:FALSE
SUMMARY:Movie Series: The Rocky Horror
DESCRIPTION:SPONSORED BY WISCONSIN BANK & TRUST THE ROCKY HORROR PICTURE SHOW (R) Thursday\, October 31\, 2019 Doors open: 6 p.m. Movie: 7 p.m. Tickets are $5 plus tax. Seating is general admission. ABOUT THE ROCKY HORROR PICTURE SHOW | Comedy\, Musical Fasten your garter belt for the time-warping\, gender-bending cult classic starring Tim Curry\, Barry Bostwick\, Susan Sarandon and Meatloaf! Join us Halloween night as a newly engaged couple have a breakdown in an isolated area and must pay a call to the bizarre residence of Dr. Frank-N-Furter. This movie is rated R. You must be 18 years or older to attend or escorted by an adult. You will need to present your ID upon entrance. There will be "prop bags" available for purchase at the event for audience participation during the movie. Bags will be $5 each and will be limited in supply. Carry-ins such as props\, food\, drink are strictly prohibited. *Please note that ending times on Facebook are possibly incorrect.
X-ALT-DESC;FMTTYPE=text/html:SPONSORED BY WISCONSIN BANK &amp\; TRUST THE ROCKY HORROR PICTURE SHOW (R) Thursday\, October 31\, 2019 Doors open: 6 p.m. Movie: 7 p.m. Tickets are $5 plus tax. Seating is general admission. ABOUT THE ROCKY HORROR PICTURE SHOW | Comedy\, Musical Fasten your garter belt for the time-warping\, gender-bending cult classic starring Tim Curry\, Barry Bostwick\, Susan Sarandon and Meatloaf! Join us Halloween night as a newly engaged couple have a breakdown in an isolated area and must pay a call to the bizarre residence of Dr. Frank-N-Furter. This movie is rated R. You must be 18 years or older to attend or escorted by an adult. You will need to present your ID upon entrance. There will be &ldquo\;prop bags&rdquo\; available for purchase at the event for audience participation during the movie. Bags will be $5 each and will be limited in supply. Carry-ins such as props\, food\, drink are strictly prohibited. *Please note that ending times on Facebook are possibly incorrect.
LOCATION:Weill Center for the Performing Arts 826 N 8th St\, Sheboygan\, Wisconsin 53081
UID:e.361.14811
SEQUENCE:3
DTSTAMP:20260425T155225Z
URL:https://business.chambermanitowoccounty.org/events/details/movie-series-the-rocky-horror-14811
END:VEVENT

END:VCALENDAR
