BEGIN:VCALENDAR
VERSION:2.0
PRODID:-//ChamberMaster//Event Calendar 2.0//EN
METHOD:PUBLISH
X-PUBLISHED-TTL:P3D
REFRESH-INTERVAL:P3D
CALSCALE:GREGORIAN
BEGIN:VEVENT
DTSTART:20190831T000000Z
DTEND:20190831T044500Z
X-MICROSOFT-CDO-ALLDAYEVENT:FALSE
SUMMARY:Movie Series: Wizard of Oz
DESCRIPTION:SPONSORED BY WISCONSIN BANK & TRUST Join us as we celebrate the 80th anniversary of the beloved classic\, Wizard of Oz! Doors open: 6 p.m. Movie: 7 p.m. AND 10 p.m. Seating is general admission. SHOW INFORMATION: The 7 p.m. showing will feature the original\, classic movie. The 10 p.m. showing will be accompanied by Pink Floyd's album\, The Dark Side of the Moon. PHOTO OPP! The Sheboygan Theatre Company will provide a magical experience for all guests when they bring the characters from Oz to life with a cast meet and greet between showings. Oz characters will be portrayed by STC's Wizard of Oz cast from their May 2019 performance. ABOUT THE WIZARD OF OZ | Adventure\, Family\, Fantasy Adapted from L. Frank Baum's timeless children's tale about a Kansas girl's journey over the rainbow\, Dorothy Gale is swept away from a farm to a magical land of Oz in a tornado. She embarks on a quest with her new friends to see the Wizard who can help her return home and help her friends as well.
X-ALT-DESC;FMTTYPE=text/html:SPONSORED BY WISCONSIN BANK &amp\; TRUST Join us as we celebrate the 80th anniversary of the beloved classic\, Wizard of Oz! Doors open: 6 p.m. Movie: 7 p.m. AND 10 p.m. Seating is general admission. SHOW INFORMATION: The 7 p.m. showing will feature the original\, classic movie. The 10 p.m. showing will be accompanied by Pink Floyd&#39\;s album\, The Dark Side of the Moon. PHOTO OPP! The Sheboygan Theatre Company will provide a magical experience for all guests when they bring the characters from Oz to life with a cast meet and greet between showings. Oz characters will be portrayed by STC&#39\;s Wizard of Oz cast from their May 2019 performance. ABOUT THE WIZARD OF OZ | Adventure\, Family\, Fantasy Adapted from L. Frank Baum&rsquo\;s timeless children&rsquo\;s tale about a Kansas girl&rsquo\;s journey over the rainbow\, Dorothy Gale is swept away from a farm to a magical land of Oz in a tornado. She embarks on a quest with her new friends to see the Wizard who can help her return home and help her friends as well.
LOCATION:Weill Center for the Performing Arts
UID:e.361.14470
SEQUENCE:3
DTSTAMP:20260425T170423Z
URL:https://business.chambermanitowoccounty.org/events/details/movie-series-wizard-of-oz-14470
END:VEVENT

END:VCALENDAR
