BEGIN:VCALENDAR
VERSION:2.0
PRODID:-//ChamberMaster//Event Calendar 2.0//EN
METHOD:PUBLISH
X-PUBLISHED-TTL:P3D
REFRESH-INTERVAL:P3D
CALSCALE:GREGORIAN
BEGIN:VEVENT
DTSTART:20220625T000000Z
DTEND:20220625T020000Z
X-MICROSOFT-CDO-ALLDAYEVENT:FALSE
SUMMARY:Movie: The Greatest Showman
DESCRIPTION:Orphaned\, penniless\, but ambitious and with a mind crammed with imagination and fresh ideas\, the American entertainer\, Phineas Taylor Barnum\, will always be remembered as the man with the gift to blur the line between reality and fiction. Thirsty for innovation and hungry for success\, the son of a tailor manages to open a wax museum\; however\, he soon shifts focus to the unique and the peculiar\, introducing extraordinary\, never-seen-before live acts on the circus stage. Now\, some people call Barnum's rich collection of oddities\, an outright freak show\; but\, when Phineas\, obsessed for cheers and respectability\, gambles everything on the opera singer\, Jenny Lind\, to appeal to a high-brow audience\, he will lose sight of the most crucial aspect of his life: his family. Will Barnum\, the greatest showman\, risk it all to be accepted?
X-ALT-DESC;FMTTYPE=text/html:Orphaned\, penniless\, but ambitious and with a mind crammed with imagination and fresh ideas\, the American entertainer\, Phineas Taylor Barnum\, will always be remembered as the man with the gift to blur the line between reality and fiction. Thirsty for innovation and hungry for success\, the son of a tailor manages to open a wax museum\; however\, he soon shifts focus to the unique and the peculiar\, introducing extraordinary\, never-seen-before live acts on the circus stage. Now\, some people call Barnum&#39\;s rich collection of oddities\, an outright freak show\; but\, when Phineas\, obsessed for cheers and respectability\, gambles everything on the opera singer\, Jenny Lind\, to appeal to a high-brow audience\, he will lose sight of the most crucial aspect of his life: his family. Will Barnum\, the greatest showman\, risk it all to be accepted?
LOCATION:Weill Center
UID:e.361.17935
SEQUENCE:3
DTSTAMP:20260420T094108Z
URL:https://business.chambermanitowoccounty.org/events/details/movie-the-greatest-showman-17935
END:VEVENT

END:VCALENDAR
