BEGIN:VCALENDAR
VERSION:2.0
PRODID:-//ChamberMaster//Event Calendar 2.0//EN
METHOD:PUBLISH
X-PUBLISHED-TTL:P3D
REFRESH-INTERVAL:P3D
CALSCALE:GREGORIAN
BEGIN:VEVENT
DTSTART:20190426T220000Z
DTEND:20190427T030000Z
X-MICROSOFT-CDO-ALLDAYEVENT:FALSE
SUMMARY:Movies & Morsels: A Star is Born
DESCRIPTION:A STAR IS BORN (R) FRIDAY\, APRIL 26 5 P.M. AND 8 P.M. SHOWING TASTING AT 7 P.M. with Bill Terranova\, Cucina Italian Restaurant Experience the Weill in a whole new way with the Movies & Morsels series\, sponsored by Destination Kohler Dining. Watch some of the best films of all time on our big screen and enjoy a gourmet selection of signature dishes prepared for tasting by Destination Kohler's finest chefs. Each tasting will fit with the theme of the movie\, making this a memorable evening you won't want to miss. Good for date nights or group outings with family and friends. Each showing is $5 and includes the tasting. Directed by Bradley Cooper\, A Star is Born tells the story of seasoned musician Jackson Maine (Bradley Cooper) who discovers - and falls in love with - struggling artist Ally (Lady Gaga). She has just about given up on her dream to make it big as a singer until Jackson coaxes her into the spotlight. But even as Ally's career takes off\, the personal side of their relationship is breaking down\, as Jackson fights an ongoing battle with his own internal demons.
X-ALT-DESC;FMTTYPE=text/html:A STAR IS BORN (R) FRIDAY\, APRIL 26 5 P.M. AND 8 P.M. SHOWING TASTING AT 7 P.M. with Bill Terranova\, Cucina Italian Restaurant Experience the Weill in a whole new way with the Movies &amp\; Morsels series\, sponsored by Destination Kohler Dining. Watch some of the best films of all time on our big screen and enjoy a gourmet selection of signature dishes prepared for tasting by Destination Kohler&rsquo\;s finest chefs. Each tasting will fit with the theme of the movie\, making this a memorable evening you won&rsquo\;t want to miss. Good for date nights or group outings with family and friends. Each showing is $5 and includes the tasting. Directed by Bradley Cooper\, A Star is Born tells the story of seasoned musician Jackson Maine (Bradley Cooper) who discovers - and falls in love with - struggling artist Ally (Lady Gaga). She has just about given up on her dream to make it big as a singer until Jackson coaxes her into the spotlight. But even as Ally&#39\;s career takes off\, the personal side of their relationship is breaking down\, as Jackson fights an ongoing battle with his own internal demons.
LOCATION:Weill Center for the Performing Arts
UID:e.361.14130
SEQUENCE:3
DTSTAMP:20260425T225525Z
URL:https://business.chambermanitowoccounty.org/events/details/movies-morsels-a-star-is-born-14130
END:VEVENT

END:VCALENDAR
