BEGIN:VCALENDAR
VERSION:2.0
PRODID:-//ChamberMaster//Event Calendar 2.0//EN
METHOD:PUBLISH
X-PUBLISHED-TTL:P3D
REFRESH-INTERVAL:P3D
CALSCALE:GREGORIAN
BEGIN:VEVENT
DTSTART:20260423T170000Z
DTEND:20260423T180000Z
X-MICROSOFT-CDO-ALLDAYEVENT:FALSE
SUMMARY:MPL Insider: Beyond the Books
DESCRIPTION:THEY'RE BAAACK!!! For One Special Episode at any rate. Tim & Emily are returning to the infoweb airwaves with MPL Insider: Beyond the Books on Thursday\, May 23\, at 12 PM for the sole purpose of demonstrating that turnabout is fair play! You see\, one of MPL's amazing community partners Seehafer Broadcasting has a special exhibition on-display at the Library from April 20 through May 30: WOMT 100 A Century of Live Local Radio in Manitowoc! Tim and Emily figured that since Seehafer is always very generous with providing an array of support to spread the word about our programming and events that it was only fitting to give them some airtime to promote theirs. Steve Kanter Local Vintage Radio Collector and Ian Schebel Seehafer Broadcasting Support Team Specialist will be in-studio to discuss what motivates a collector\, as well as providing some insight into the history of WOMT's 100th Anniversary on-the-air! We can virtually assure that this is going to be an amazing return to the internets! So\, grab a couple Hot Tamales\, a bottle of Ting\, and get ready for some fun\, nonlinear chit-chat! See you at 12 PM on April 23 on either MPL's Facebook page (www.facebook.com/manitowoclibrary) or our YouTube channel! And come with questions at-the-ready! With this subject matter\, you're sure to have one or two!
X-ALT-DESC;FMTTYPE=text/html:<span style="color:windowtext"><span style="font-family:times new roman\,serif">THEY&#39\;RE BAAACK!!! For One Special Episode at any rate. Tim &amp\; Emily are returning to the infoweb airwaves with <a href="https://www.manitowoclibrary.org/event/mpl-insider-beyond-books-tim-emily-30536">MPL Insider: Beyond the Books</a></span></span> <span style="color:windowtext"><span style="font-family:times new roman\,serif">on Thursday\, May 23\, at 12 PM for the sole purpose of demonstrating that turnabout is fair play! You see\, one of MPL&rsquo\;s amazing community partners&mdash\;Seehafer Broadcasting&mdash\;has a special exhibition on-display at the Library from April 20 through May 30: <a href="https://www.manitowoclibrary.org/event/womt-100th-anniversary-exhibition-24167">WOMT 100&mdash\;A Century of Live Local Radio in Manitowoc</a>! Tim and Emily figured that since Seehafer is always very generous with providing an array of support to spread the word about our programming and events that it was only fitting to give them some airtime to promote theirs. Steve Kanter&mdash\;Local Vintage Radio Collector&mdash\;and Ian Schebel&mdash\;Seehafer Broadcasting Support Team Specialist&mdash\;will be in-studio to discuss what motivates a collector\, as well as providing some insight into the history of WOMT&rsquo\;s 100<sup>th</sup> Anniversary on-the-air! We can virtually assure that this is going to be an amazing return to the internets! So\, grab a couple Hot Tamales\, a bottle of Ting\, and get ready for some fun\, nonlinear chit-chat! See you at 12 PM on April 23 on either MPL&rsquo\;s Facebook page (<a href="http://www.facebook.com/manitowoclibrary">www.facebook.com/manitowoclibrary</a>) or our YouTube channel! And come with questions at-the-ready! With this subject matter\, you&#39\;re sure to have one or two!</span></span>
LOCATION:This Event Takes Place Exclusively Online
UID:e.361.20805
SEQUENCE:3
DTSTAMP:20260421T085515Z
URL:https://business.chambermanitowoccounty.org/events/details/mpl-insider-beyond-the-books-20805
END:VEVENT

END:VCALENDAR
