BEGIN:VCALENDAR
VERSION:2.0
PRODID:-//ChamberMaster//Event Calendar 2.0//EN
METHOD:PUBLISH
X-PUBLISHED-TTL:P3D
REFRESH-INTERVAL:P3D
CALSCALE:GREGORIAN
BEGIN:VEVENT
DTSTART:20190508T180000Z
DTEND:20190508T220000Z
X-MICROSOFT-CDO-ALLDAYEVENT:FALSE
SUMMARY:National Small Business Week Expo
DESCRIPTION:The week of May 5th-May 11th is National Small Business Week. OfficeMax in Manitowoc is hosting a Small Business Expo in our store to celebrate. We will be having small businesses in our area setting up tables to help promote their business. If you are interested in having a table at the event please call us at 920-686-9400 and ask for a manager. If any printing is necessary to help promote your business\, we will provide onsite at a discount. Set up a table anytime after 10am and you can stay as long as you like.
X-ALT-DESC;FMTTYPE=text/html:The week of May 5th-May 11th is National Small Business Week. OfficeMax in Manitowoc is hosting a Small Business Expo in our store to celebrate. We will be having small businesses in our area setting up tables to help promote their business. If you are interested in having a table at the event please call us at 920-686-9400 and ask for a manager. If any printing is necessary to help promote your business\, we will provide onsite at a discount. Set up a table anytime after 10am and you can stay as long as you like.
LOCATION:OfficeMax 4121 Calumet Avenue Manitowoc\, WI 54220
UID:e.361.14126
SEQUENCE:3
DTSTAMP:20260425T214940Z
URL:https://business.chambermanitowoccounty.org/events/details/national-small-business-week-expo-14126
END:VEVENT

END:VCALENDAR
