BEGIN:VCALENDAR
VERSION:2.0
PRODID:-//ChamberMaster//Event Calendar 2.0//EN
METHOD:PUBLISH
X-PUBLISHED-TTL:P3D
REFRESH-INTERVAL:P3D
CALSCALE:GREGORIAN
BEGIN:VEVENT
DTSTART:20221013T220000Z
DTEND:20221013T233000Z
X-MICROSOFT-CDO-ALLDAYEVENT:FALSE
SUMMARY:Networking at Night at UnitedOne Credit Union
DESCRIPTION:Come to UnitedOne Credit Union's Networking at Night event\, stop in and say 'hello' to Lindsay Wiesner and Nellie Weiss and the rest of the Business Team at UnitedOne. \n\n\n\nThinking of sitting this event out?  Think again! UnitedOne will be giving away 2 gift cards at the event!  In addition to the prizes and fun\, there will be food and spirits provided by local businesses like Sabbatical Brewing\, Elbow Room\, and Christina's Cakery & Baked Goods.  Don't be shy\, join UnitedOne and The Chamber for this fun networking event.
X-ALT-DESC;FMTTYPE=text/html:Come to UnitedOne Credit Union&#39\;s Networking at Night event\, stop in and say &lsquo\;hello&rsquo\; to Lindsay Wiesner and Nellie Weiss and the rest of the Business Team at UnitedOne.&nbsp\;<br />\n<br />\nThinking of sitting this event out?&nbsp\; Think again! UnitedOne will be giving away 2 gift cards at the event!&nbsp\; In addition to the prizes and fun\, there will be food and spirits provided by local businesses like Sabbatical Brewing\, Elbow Room\, and Christina&rsquo\;s Cakery &amp\; Baked Goods.&nbsp\; Don&rsquo\;t be shy\, join UnitedOne and The Chamber for this fun networking event.&nbsp\;
LOCATION:UnitedOne Credit Union 1117 S. 10th St. Manitowoc
UID:e.361.18016
SEQUENCE:3
DTSTAMP:20260420T033444Z
URL:https://business.chambermanitowoccounty.org/events/details/networking-at-night-at-unitedone-credit-union-18016
END:VEVENT

END:VCALENDAR
