BEGIN:VCALENDAR
VERSION:2.0
PRODID:-//ChamberMaster//Event Calendar 2.0//EN
METHOD:PUBLISH
X-PUBLISHED-TTL:P3D
REFRESH-INTERVAL:P3D
CALSCALE:GREGORIAN
BEGIN:VEVENT
DTSTART:20190518T230000Z
DTEND:20190519T050500Z
X-MICROSOFT-CDO-ALLDAYEVENT:FALSE
SUMMARY:New Pretend event
DESCRIPTION:
X-ALT-DESC;FMTTYPE=text/html:
LOCATION:
UID:e.361.14081
SEQUENCE:3
DTSTAMP:20260425T203100Z
URL:https://business.chambermanitowoccounty.org/events/details/new-pretend-event-14081
END:VEVENT

END:VCALENDAR
