BEGIN:VCALENDAR
VERSION:2.0
PRODID:-//ChamberMaster//Event Calendar 2.0//EN
METHOD:PUBLISH
X-PUBLISHED-TTL:P3D
REFRESH-INTERVAL:P3D
CALSCALE:GREGORIAN
BEGIN:VEVENT
DTSTART:20220128T150000Z
DTEND:20220129T220000Z
X-MICROSOFT-CDO-ALLDAYEVENT:FALSE
SUMMARY:Newborn Piglets at Farm Wisconsin
DESCRIPTION:Farm Wisconsin offers the chance to witness the miracle of calf birth\, but have you ever experienced the miracle of pig birth? Join us Friday-Saturday\, January 28-29 for this unique opportunity to see the pig birthing process and newborn piglets! We cannot predict when the pig goes into labor\, but whenever the piglets are born\, they will stay at Farm Wisconsin through Saturday! This is a unique opportunity you don't want to miss! Seeing the piglets is included with Farm Wisconsin admission.
X-ALT-DESC;FMTTYPE=text/html:Farm Wisconsin offers the chance to witness the miracle of calf birth\, but have you ever experienced the miracle of pig birth? Join us Friday-Saturday\, January 28-29 for this unique opportunity to see the pig birthing process and newborn piglets! We cannot predict when the pig goes into labor\, but whenever the piglets are born\, they will stay at Farm Wisconsin through Saturday! This is a unique opportunity you don&rsquo\;t want to miss! Seeing the piglets is included with Farm Wisconsin admission.
LOCATION:Farm Wisconsin Discovery Center (7001 Gass Lake Rd.\, Manitowoc\, WI 54220)
UID:e.361.17239
SEQUENCE:3
DTSTAMP:20260422T172747Z
URL:https://business.chambermanitowoccounty.org/events/details/newborn-piglets-at-farm-wisconsin-17239
END:VEVENT

END:VCALENDAR
