BEGIN:VCALENDAR
VERSION:2.0
PRODID:-//ChamberMaster//Event Calendar 2.0//EN
METHOD:PUBLISH
X-PUBLISHED-TTL:P3D
REFRESH-INTERVAL:P3D
CALSCALE:GREGORIAN
BEGIN:VEVENT
DTSTART:20190127T013000Z
DTEND:20190127T033000Z
X-MICROSOFT-CDO-ALLDAYEVENT:FALSE
SUMMARY:No Quarter (Led Zeppelin Tribute)
DESCRIPTION:They're back! No Quarter - Tribute to the Music of Led Zeppelin\, will be performing the music from the Led Zeppelin movie\, The Song Remains the Same.
X-ALT-DESC;FMTTYPE=text/html:They&rsquo\;re back! No Quarter - Tribute to the Music of Led Zeppelin\, will be performing the music from the Led Zeppelin movie\, The Song Remains the Same.
LOCATION:Stefanie H. Weill Center for the Performing Arts\, 826 N. 8th St.\, Sheboygan
UID:e.361.13731
SEQUENCE:3
DTSTAMP:20260426T010718Z
URL:https://business.chambermanitowoccounty.org/events/details/no-quarter-led-zeppelin-tribute-13731
END:VEVENT

END:VCALENDAR
