BEGIN:VCALENDAR
VERSION:2.0
PRODID:-//ChamberMaster//Event Calendar 2.0//EN
METHOD:PUBLISH
X-PUBLISHED-TTL:P3D
REFRESH-INTERVAL:P3D
CALSCALE:GREGORIAN
BEGIN:VEVENT
DTSTART:20190407T003000Z
DTEND:20190407T023000Z
X-MICROSOFT-CDO-ALLDAYEVENT:FALSE
SUMMARY:Nothing But the Classics Concert\, Lakeshore Big Band
DESCRIPTION:Reset your watch for the 30's and 40's\, the Lakeshore Big Band is taking you from the COTTON CLUB to the GI CANTEEN and beyond with songs like "Pennsylvania 6-5000\," "Satin Doll\," "Moonlight Serenade\," and of course "In the Mood."
X-ALT-DESC;FMTTYPE=text/html:Reset your watch for the 30&rsquo\;s and 40&rsquo\;s\, the Lakeshore Big Band is taking you from the COTTON CLUB to the GI CANTEEN and beyond with songs like &quot\;Pennsylvania 6-5000\,&quot\; &quot\;Satin Doll\,&quot\; &quot\;Moonlight Serenade\,&quot\; and of course &quot\;In the Mood.&quot\;
LOCATION:Capitol Civic Centre
UID:e.361.13792
SEQUENCE:3
DTSTAMP:20260425T225523Z
URL:https://business.chambermanitowoccounty.org/events/details/nothing-but-the-classics-concert-lakeshore-big-band-13792
END:VEVENT

END:VCALENDAR
