BEGIN:VCALENDAR
VERSION:2.0
PRODID:-//ChamberMaster//Event Calendar 2.0//EN
METHOD:PUBLISH
X-PUBLISHED-TTL:P3D
REFRESH-INTERVAL:P3D
CALSCALE:GREGORIAN
BEGIN:VEVENT
DTSTART:20220630T210000Z
DTEND:20220630T230000Z
X-MICROSOFT-CDO-ALLDAYEVENT:FALSE
SUMMARY:Open House at Wisconsin Vein Center
DESCRIPTION:The Wisconsin Vein Center is hosting a very special event to announce new state of the art services in Body Sculpting\, skin tightening and muscle toning called EVOLVE.  On June 30\, 2022 4-6pm we will be having an amazing live jazz performer\, Janet Planet who has a Grammy nominated album to entertain\, delicious food and appetizers\, contests for service discounts and free treatments.  It will be an amazing time for all. Everyone will leave with a smile.  Please come join us for this spectacular event! \n\n\n\nWisconsin Vein Center and Aesthetics Institute is a Dedicated Center of Excellence.  In addition to offering proven\, reliable\, State of the Art varicose vein and spider vein care\, we are known for our Aesthetic Services.\n\n\n\nWisconsin Vein Center offers exciting\, painless and transformative treatments including Medical grade luxury skin care products\, Skin Rejuvenation\, Laser Hair Removal\, Medical Weight Loss\, Medical Grade Skin Peels\, Botox\, Fillers and Spider Vein Treatments.
X-ALT-DESC;FMTTYPE=text/html:<p><span style="font-size:12px\;"><span style="font-family:arial\;">The Wisconsin Vein Center is hosting a very special event to announce new state of the art services in Body Sculpting\, skin tightening and muscle toning called EVOLVE.&nbsp\; On <strong>June 30\, 2022 4-6pm</strong> we will be having an amazing live jazz performer\, <strong>Janet Planet </strong>who has a Grammy nominated album to entertain\, delicious <strong>food and appetizers</strong>\, contests for service discounts and free treatments.&nbsp\; It will be an amazing time for all. Everyone will leave with a smile.&nbsp\; Please come join us for this spectacular event!&nbsp\;<br />\n<br />\nWisconsin Vein Center and Aesthetics Institute is a Dedicated Center of Excellence. &nbsp\;In addition to offering proven\, reliable\, State of the Art varicose vein and spider vein care\, we are known for our Aesthetic Services.<br />\n<br />\nWisconsin Vein Center offers exciting\, painless and transformative treatments including Medical grade luxury skin care products\, Skin Rejuvenation\, Laser Hair Removal\, Medical Weight Loss\, Medical Grade Skin Peels\, Botox\, Fillers and Spider Vein Treatments.&nbsp\;</span></span></p>\n
LOCATION:940 Maritime Drive Suite 4 Manitowoc\, WI 5220
UID:e.361.17919
SEQUENCE:3
DTSTAMP:20260419T143706Z
URL:https://business.chambermanitowoccounty.org/events/details/open-house-at-wisconsin-vein-center-17919
END:VEVENT

END:VCALENDAR
