BEGIN:VCALENDAR
VERSION:2.0
PRODID:-//ChamberMaster//Event Calendar 2.0//EN
METHOD:PUBLISH
X-PUBLISHED-TTL:P3D
REFRESH-INTERVAL:P3D
CALSCALE:GREGORIAN
BEGIN:VEVENT
DTSTART:20190927T160000Z
DTEND:20190927T180000Z
X-MICROSOFT-CDO-ALLDAYEVENT:FALSE
SUMMARY:Over 80 Party
DESCRIPTION:Help us celebrate those that are 80 years and older. 11:00 am Enjoy musical entertainment by Jerry Krueger 12:00 pm Lunch will be served. Brown Gravy Meatloaf\, Scalloped Potatoes\, Carrots & Peas\, Dinner Roll\, Festive Dessert\, Milk & Coffee. $5.00 suggested donation 60 and older. $5.00 lunch fee for those under 60.
X-ALT-DESC;FMTTYPE=text/html:Help us celebrate those that are 80 years and older. 11:00 am Enjoy musical entertainment by Jerry Krueger 12:00 pm Lunch will be served. Brown Gravy Meatloaf\, Scalloped Potatoes\, Carrots &amp\; Peas\, Dinner Roll\, Festive Dessert\, Milk &amp\; Coffee. $5.00 suggested donation 60 and older. $5.00 lunch fee for those under 60.
LOCATION:Two Rivers Community House Gymnasium
UID:e.361.14474
SEQUENCE:3
DTSTAMP:20260425T155424Z
URL:https://business.chambermanitowoccounty.org/events/details/over-80-party-14474
END:VEVENT

END:VCALENDAR
