BEGIN:VCALENDAR
VERSION:2.0
PRODID:-//ChamberMaster//Event Calendar 2.0//EN
METHOD:PUBLISH
X-PUBLISHED-TTL:P3D
REFRESH-INTERVAL:P3D
CALSCALE:GREGORIAN
BEGIN:VEVENT
DTSTART:20190430T143000Z
DTEND:20190430T153000Z
X-MICROSOFT-CDO-ALLDAYEVENT:FALSE
SUMMARY:Partners in Education Meeting
DESCRIPTION:The Partners In Education Committee (formerly McPIE) is under reconstruction and our goal is workforce solutions! Under the guidance of this committee\, events such as Career Expo\, Reality Store\, and the Heavy Metal Bus Tour and Construction Bus Tour have been developed and implemented to award winning levels.  In fact\, similar organizations throughout the state replicate our programs to meet the needs of their region. We are looking for volunteers to join us on the Partners In Education (PIE) committee and to serve on a sub-committee task force for one of our programs or events.   If you are interested in helping bridge the gap between education and industry and educating our future workforce on the tremendous opportunities available in Manitowoc County please attend our next meeting on April 30th at 9:30am at the Chamber office.
X-ALT-DESC;FMTTYPE=text/html:The Partners In Education Committee (formerly McPIE) is under reconstruction and our goal is workforce solutions! Under the guidance of this committee\, events such as Career Expo\, Reality Store\, and the Heavy Metal Bus Tour and Construction Bus Tour have been developed and implemented to award winning levels.&nbsp\; In fact\, similar organizations throughout the state replicate our programs to meet the needs of their region. We are looking for volunteers to join us on the Partners In Education (PIE) committee and to serve on a sub-committee task force for one of our programs or events.&nbsp\; &nbsp\;If you are&nbsp\;interested in helping bridge the gap between education and industry and educating our future workforce on the tremendous opportunities available in Manitowoc County please attend our next meeting on April 30th at 9:30am at the Chamber office.&nbsp\;
LOCATION:The Chamber of Manitowoc County
UID:e.361.14107
SEQUENCE:3
DTSTAMP:20260425T214835Z
URL:https://business.chambermanitowoccounty.org/events/details/partners-in-education-meeting-14107
END:VEVENT

END:VCALENDAR
