BEGIN:VCALENDAR
VERSION:2.0
PRODID:-//ChamberMaster//Event Calendar 2.0//EN
METHOD:PUBLISH
X-PUBLISHED-TTL:P3D
REFRESH-INTERVAL:P3D
CALSCALE:GREGORIAN
BEGIN:VEVENT
DTSTART:20181006T160000Z
DTEND:20181006T210000Z
X-MICROSOFT-CDO-ALLDAYEVENT:FALSE
SUMMARY:Pink Heals Annual 5K/10K Walk/Run & Raffle Event
DESCRIPTION:Pink Heals Manitowoc County will host it's annual 5K/10K Walk/Run & Raffle Event. Registration begins at 11 am with the race starting at 12:30 pm. There will be many raffle prizes to win.
X-ALT-DESC;FMTTYPE=text/html:Pink Heals Manitowoc County will host it&#39\;s annual 5K/10K Walk/Run &amp\; Raffle Event. Registration begins at 11 am with the race starting at 12:30 pm. There will be many raffle prizes to win.
LOCATION:Fox Hills Resort 250 W. Church St. Mishicot\, WI 54228
UID:e.361.13576
SEQUENCE:3
DTSTAMP:20260426T043420Z
URL:https://business.chambermanitowoccounty.org/events/details/pink-heals-annual-5k-10k-walk-run-raffle-event-13576
END:VEVENT

END:VCALENDAR
