BEGIN:VCALENDAR
VERSION:2.0
PRODID:-//ChamberMaster//Event Calendar 2.0//EN
METHOD:PUBLISH
X-PUBLISHED-TTL:P3D
REFRESH-INTERVAL:P3D
CALSCALE:GREGORIAN
BEGIN:VEVENT
DTSTART:20191005T130000Z
DTEND:20191005T170000Z
X-MICROSOFT-CDO-ALLDAYEVENT:FALSE
SUMMARY:Pink Heals "Cares Enough To Wear Pink" 5K/10K Walk Run
DESCRIPTION:This is a 5K/10K Walk Run Event. There is also a ticket raffle with many cash prizes ranging from $2\,500 to $500 and other prizes as well as raffle baskets A Pink Costume contest will also be held at 8:30AM with Bill Jartz (WBAY) as our Emcee. Come and enjoy the fun even if you do not participate in the walk/run.
X-ALT-DESC;FMTTYPE=text/html:This is a 5K/10K Walk Run Event. There is also a ticket raffle with many cash prizes ranging from $2\,500 to $500 and other prizes as well as raffle baskets A Pink Costume contest will also be held at 8:30AM with Bill Jartz (WBAY) as our Emcee. Come and enjoy the fun even if you do not participate in the walk/run.
LOCATION:Fox Hills Resort\, Mishicot\, WI Walk/Run is on the Golf Course
UID:e.361.14712
SEQUENCE:3
DTSTAMP:20260425T143633Z
URL:https://business.chambermanitowoccounty.org/events/details/pink-heals-cares-enough-to-wear-pink-5k-10k-walk-run-14712
END:VEVENT

END:VCALENDAR
