BEGIN:VCALENDAR
VERSION:2.0
PRODID:-//ChamberMaster//Event Calendar 2.0//EN
METHOD:PUBLISH
X-PUBLISHED-TTL:P3D
REFRESH-INTERVAL:P3D
CALSCALE:GREGORIAN
BEGIN:VEVENT
DTSTART:20230808T150000Z
DTEND:20230808T170000Z
X-MICROSOFT-CDO-ALLDAYEVENT:FALSE
SUMMARY:Plant Clinic with the Master Gardeners of Manitowoc County
DESCRIPTION:The Master Gardeners of Manitowoc County\, in partnership with Manitowoc Public Library\, will be hosting a Plant Clinic at the Library on Tuesday\, August 8\, from 10 AM until 12 PM\, on the First Floor in proximity to the Main Service Desk. The role of the Master Gardeners is to transfer research-based horticulture information primarily from universities to the general public. Feel free to bring in photographs of problems you are seeing in your gardens to share with the Master Gardeners. They'll do their best to help with plant identification\, as well as disease or pest issues. Come to MPL on August 8 with your gardening queries to find out what information the MGMC can pass along!
X-ALT-DESC;FMTTYPE=text/html:<span style="color: rgb(5\, 5\, 5)\; font-family: &quot\;Segoe UI Historic&quot\;\, &quot\;Segoe UI&quot\;\, Helvetica\, Arial\, sans-serif\; font-size: 15px\; background-color: rgb(255\, 255\, 255)\;">The Master Gardeners of Manitowoc County\, in partnership with Manitowoc Public Library\, will be hosting a Plant Clinic at the Library on Tuesday\, August 8\, from 10 AM until 12 PM\, on the First Floor in proximity to the Main Service Desk. The role of the Master Gardeners is to transfer research-based horticulture information&mdash\;primarily from universities&mdash\;to the general public. Feel free to bring in photographs of problems you are seeing in your gardens to share with the Master Gardeners. They&rsquo\;ll do their best to help with plant identification\, as well as disease or pest issues. Come to MPL on August 8 with your gardening queries to find out what information the MGMC can pass along!</span>
LOCATION:Manitowoc Public Library 707 Quay St\, Manitowoc\, WI
UID:e.361.18937
SEQUENCE:3
DTSTAMP:20260419T144139Z
URL:https://business.chambermanitowoccounty.org/events/details/plant-clinic-with-the-master-gardeners-of-manitowoc-county-18937
END:VEVENT

END:VCALENDAR
