BEGIN:VCALENDAR
VERSION:2.0
PRODID:-//ChamberMaster//Event Calendar 2.0//EN
METHOD:PUBLISH
X-PUBLISHED-TTL:P3D
REFRESH-INTERVAL:P3D
CALSCALE:GREGORIAN
BEGIN:VEVENT
DTSTART:20221103T223000Z
DTEND:20221103T233000Z
X-MICROSOFT-CDO-ALLDAYEVENT:FALSE
SUMMARY:POSTPONED: Escape Room
DESCRIPTION:This event is being postponed.  Stay tuned for a new date!\n\n\n\nJoin Young Professionals of Manitowoc County for an exciting way to meet up and get to know other YP's in the area as you tackle a mystery together!  \n\n\n\nWhat The Lock? is a physical adventure game where participants are placed into a room and have to use teamwork along with elements of the room to solve a series of puzzles\, find clues\, and escape the room within a set time limit. Each room is themed and has a unique storyline engaging the players through their environment.\n\n\n\nYou have 60 minutes to search the room for the clues that will help lead you to your eventual escape. Don't overlook anything as each room has been meticulously planned and presented to a very exacting degree for your escaping enjoyment.\n\n\n\nEach escape room has its own setting\, secrets\, story-line\, and escape route. Bring your friends\, families\, co-workers\, that group that is always at the coffee shop next door\, it doesn't matter who you do the game with.
X-ALT-DESC;FMTTYPE=text/html:<em><strong>This event is being postponed.&nbsp\; Stay tuned for a new date!</strong></em><br />\n<br />\nJoin Young Professionals of Manitowoc County for an exciting way to meet up and get to know other YP&#39\;s in the area as you tackle a mystery together!&nbsp\;&nbsp\;<br />\n<br />\nWhat The Lock? is a physical adventure game where participants are placed into a room and have to use teamwork along with elements of the room to solve a series of puzzles\, find clues\, and escape the room within a set time limit. Each room is themed and has a unique storyline engaging the players through their environment.<br />\n<br />\nYou have 60 minutes to search the room for the clues that will help lead you to your eventual escape. Don&rsquo\;t overlook anything as each room has been meticulously planned and presented to a very exacting degree for your escaping enjoyment.<br />\n<br />\nEach escape room has its own setting\, secrets\, story-line\, and escape route. Bring your friends\, families\, co-workers\, that group that is always at the coffee shop next door\, it doesn&rsquo\;t matter who you do the game with.
LOCATION:What The Lock? Escape Rooms 1130 Washington St. Manitowoc\, WI 54220
UID:e.361.18061
SEQUENCE:3
DTSTAMP:20260420T021221Z
URL:https://business.chambermanitowoccounty.org/events/details/postponed-escape-room-18061
END:VEVENT

END:VCALENDAR
