BEGIN:VCALENDAR
VERSION:2.0
PRODID:-//ChamberMaster//Event Calendar 2.0//EN
METHOD:PUBLISH
X-PUBLISHED-TTL:P3D
REFRESH-INTERVAL:P3D
CALSCALE:GREGORIAN
BEGIN:VEVENT
DTSTART:20221030T003000Z
DTEND:20221030T023000Z
X-MICROSOFT-CDO-ALLDAYEVENT:FALSE
SUMMARY:Project Pink: North America's Premier Pink Floyd Tribute
DESCRIPTION:Project Pink is North America's premier Pink Floyd tribute band. Armed with a 20-foot projection screen\, a virtual armada of lights\, and world-class sound production\, Project Pink faithfully recreates the complete Floyd experience   the sights\, the sounds\, the intangible vibe. Project Pink's award-winning musicians pour out the most authentic performances of your favorite Floyd tunes from The Dark Side of the Moon\, The Wall\, Wish You Were Here\, Meddle\, and more! Whether you're a lifelong fan of the Floyd\, or a first-time freak\, take your senses on a journey with the mind-blowing experience that is Project Pink.
X-ALT-DESC;FMTTYPE=text/html:Project Pink is North America&rsquo\;s premier Pink Floyd tribute band. Armed with a 20-foot projection screen\, a virtual armada of lights\, and world-class sound production\, Project Pink faithfully recreates the complete Floyd experience &ndash\; the sights\, the sounds\, the intangible vibe. Project Pink&rsquo\;s award-winning musicians pour out the most authentic performances of your favorite Floyd tunes from The Dark Side of the Moon\, The Wall\, Wish You Were Here\, Meddle\, and more! Whether you&rsquo\;re a lifelong fan of the Floyd\, or a first-time freak\, take your senses on a journey with the mind-blowing experience that is Project Pink.
LOCATION:Weill Center
UID:e.361.18017
SEQUENCE:3
DTSTAMP:20260420T034607Z
URL:https://business.chambermanitowoccounty.org/events/details/project-pink-north-america-s-premier-pink-floyd-tribute-10-29-2022-18017
END:VEVENT

END:VCALENDAR
