BEGIN:VCALENDAR
VERSION:2.0
PRODID:-//ChamberMaster//Event Calendar 2.0//EN
METHOD:PUBLISH
X-PUBLISHED-TTL:P3D
REFRESH-INTERVAL:P3D
CALSCALE:GREGORIAN
BEGIN:VEVENT
DTSTART:20221207T134000Z
DTEND:20221207T170000Z
X-MICROSOFT-CDO-ALLDAYEVENT:FALSE
SUMMARY:Reality Store - Brillion High School 2023
DESCRIPTION:The Reality Store is a financial literacy event in which students learn basic skills in financial planning\, goal setting\, decision making\, and career planning. The Reality Store will help students examine their attitudes about their futures and career expectations. After their trip through The Reality Store\, students will have developed a more realistic idea of the financial impact their future decisions will have.\n\n\n\nEvent Overview:\n\n	Prior to the event students choose the future career and receive their monthly salary deposited in their checking account.\n	Students enter The Reality Store with their check book.  They first stop at "Uncle Sam" for their tax deduction.   They then proceed to "The Bank/Credit Union" for their student loan deduction.  Students then have to visit 13 other booths making purchases for their life. Ex: buy a car\, home\, groceries\, utilities\, etc\n\n\nVolunteers:\n\n\n	Staff one of the various booths\n	Assist students in making wise financial choices based on their salary \n	No experience necessary\n\n\nEvent goals for the students:\n\n\n	Learn basic skills in financial planning\, goal setting\, decision making and career planning\n	Help students examine their attitudes about their futures and career expectations\n	Develop a more realistic idea of the financial impact their future decisions will have.\n\n\nIn order to keep this event focused on education\, we ask that no one bring promotional items to The Reality Store. If you would like to donate promotional items for the students\, contact The Chamber.  Please feel free to wear your company's logo apparel.\n\nWe appreciate your commitment to our area youth and look forward to your participation and support in this most exciting event. Should you have any questions\, please feel free to contact Abbey Quistorf at (920) 684-5575 or abbey@chambermanitowoccounty.org.
X-ALT-DESC;FMTTYPE=text/html:<span style="font-size:12px\;"><span style="font-family:arial\;">The Reality Store is a financial literacy event in which students learn basic skills in financial planning\, goal setting\, decision making\, and career planning. The Reality Store will help students examine their attitudes about their futures and career expectations. After their trip through The Reality Store\, students will have developed a more realistic idea of the financial impact their future decisions will have.<br />\n<br />\nEvent Overview:</span></span>\n<ul style="line-height: 20.79px\;">\n	<li><span style="font-size:12px\;"><span style="font-family:arial\;">Prior to the event students choose the future career and receive their monthly salary deposited in their checking account.</span></span></li>\n	<li><span style="font-size:12px\;"><span style="font-family:arial\;">Students enter The Reality Store with their check book.&nbsp\; They first stop at &ldquo\;Uncle Sam&rdquo\; for their tax deduction.&nbsp\;&nbsp\; They then proceed to &ldquo\;The Bank/Credit Union&rdquo\; for their student loan deduction.&nbsp\; Students then have to visit 13 other booths making purchases for their life. Ex: buy a car\, home\, groceries\, utilities\, etc</span></span></li>\n</ul>\n\n<p style="line-height: 20.79px\;"><span style="font-size:12px\;"><span style="font-family:arial\;">Volunteers:</span></span></p>\n\n<ul style="line-height: 20.79px\;">\n	<li><span style="font-size:12px\;"><span style="font-family:arial\;">Staff one of the various booths</span></span></li>\n	<li><span style="font-size:12px\;"><span style="font-family:arial\;">Assist students in making wise financial choices based on their salary&nbsp\;</span></span></li>\n	<li><span style="font-size:12px\;"><span style="font-family:arial\;">No experience necessary</span></span></li>\n</ul>\n\n<p style="line-height: 20.79px\;"><span style="font-size:12px\;"><span style="font-family:arial\;">Event goals for the students:</span></span></p>\n\n<ul style="line-height: 20.79px\;">\n	<li><span style="font-size:12px\;"><span style="font-family:arial\;">Learn basic skills in financial planning\, goal setting\, decision making and career planning</span></span></li>\n	<li><span style="font-size:12px\;"><span style="font-family:arial\;">Help students examine their attitudes about their futures and career expectations</span></span></li>\n	<li><span style="font-size:12px\;"><span style="font-family:arial\;">Develop a more realistic idea of the financial impact their future decisions will have.</span></span></li>\n</ul>\n\n<p style="line-height: 20.79px\;"><span style="font-size:12px\;"><span style="font-family:arial\;">In order to keep this event focused on education\, we ask that no one bring promotional items to The Reality Store. If you would like to donate promotional items for the students\, contact The Chamber.&nbsp\; Please feel free to wear your company&rsquo\;s logo apparel.</span></span></p>\n\n<p style="line-height: 20.79px\;"><span style="font-size:12px\;"><span style="font-family:arial\;">We appreciate your commitment to our area youth and look forward to your participation and support in this most exciting event. Should you have any questions\, please feel free to contact Abbey Quistorf at (920) 684-5575 or abbey@chambermanitowoccounty.org.</span></span></p>\n\n<p style="line-height: 20.79px\;">&nbsp\;</p>\n
LOCATION:Brillion High School W1101 Co Rd HR Brillion\, WI 54110
UID:e.361.18054
SEQUENCE:3
DTSTAMP:20260420T004039Z
URL:https://business.chambermanitowoccounty.org/events/details/reality-store-brillion-high-school-2023-18054
END:VEVENT

END:VCALENDAR
