BEGIN:VCALENDAR
VERSION:2.0
PRODID:-//ChamberMaster//Event Calendar 2.0//EN
METHOD:PUBLISH
X-PUBLISHED-TTL:P3D
REFRESH-INTERVAL:P3D
CALSCALE:GREGORIAN
BEGIN:VEVENT
DTSTART:20190625T230000Z
DTEND:20190626T000000Z
X-MICROSOFT-CDO-ALLDAYEVENT:FALSE
SUMMARY:Resource Referral - Hamilton Care Center
DESCRIPTION:Resource Referral\n\nAs our health needs change it is often difficult to know what questions to ask or even who to ask. Many resources are available\, it's knowing what and where they are to help you find the answers you need.
X-ALT-DESC;FMTTYPE=text/html:Resource Referral<br />\nAs our health needs change it is often difficult to know what questions to ask or even who to ask. Many resources are available\, it&#39\;s knowing what and where they are to help you find the answers you need.
LOCATION:Hamilton Care Center North Dining Room
UID:e.361.14111
SEQUENCE:3
DTSTAMP:20260425T193401Z
URL:https://business.chambermanitowoccounty.org/events/details/resource-referral-hamilton-care-center-14111
END:VEVENT

END:VCALENDAR
