BEGIN:VCALENDAR
VERSION:2.0
PRODID:-//ChamberMaster//Event Calendar 2.0//EN
METHOD:PUBLISH
X-PUBLISHED-TTL:P3D
REFRESH-INTERVAL:P3D
CALSCALE:GREGORIAN
BEGIN:VEVENT
DTSTART:20181011T210000Z
DTEND:20181011T223000Z
X-MICROSOFT-CDO-ALLDAYEVENT:FALSE
SUMMARY:Ribbon Cutting at Courthouse Pub
DESCRIPTION:A cornerstone of Manitowoc changed hands during an idealistic Wisconsin April snowstorm.  This was when community activist John Jagemann sold the Courthouse Pub to Manitowoc locals and long-time friends Ryan Morris and Brock Weyer. \n\n\n\nMorris and Weyer plan to run a customer focused food and beverage program.  "We've had our first menu for just a few months\, and we are already changing it almost entirely.  We've learned the style of food that the locals are craving and are going directly for that.  This new fall menu will be Classically Comfortable with and Twist."\, Morris said.   Weyer added\, "We are so excited for our Grand Re-Opening and thought it would be a perfect time to showcase our new fall menu."\n\n\n\nThe Grand Re-opening will take place October 11th.  The ribbon cutting will be at 4 PM followed by complimentary hor d' oeuvres.  If you can't make it to the ribbon cutting\, the Pub will be having fantastic specials that entire week including half off appetizers.
X-ALT-DESC;FMTTYPE=text/html:<span style="font-size:14px\;"><span style="font-family:arial\;">A cornerstone of Manitowoc changed hands during an idealistic Wisconsin April snowstorm.&nbsp\; This was when community activist John Jagemann sold the Courthouse Pub to Manitowoc locals and long-time friends Ryan Morris and Brock Weyer.&nbsp\;<br />\n<br />\nMorris and Weyer plan to run a customer focused food and beverage program.&nbsp\; &ldquo\;We&rsquo\;ve had our first menu for just a few months\, and we are already changing it almost entirely.&nbsp\; We&rsquo\;ve learned the style of food that the locals are craving and are going directly for that.&nbsp\; This new fall menu will be Classically Comfortable with and Twist.&rdquo\;\, Morris said.&nbsp\;&nbsp\; Weyer added\, &ldquo\;We are so excited for our Grand Re-Opening and thought it would be a perfect time to showcase our new fall menu.&rdquo\;<br />\n<br />\nThe Grand Re-opening will take place October 11<sup>th</sup>.&nbsp\; The ribbon cutting will be at 4 PM followed by complimentary hor d&rsquo\; oeuvres.&nbsp\; If you can&rsquo\;t make it to the ribbon cutting\, the Pub will be having fantastic specials that entire week including half off appetizers.</span></span>
LOCATION:Courthouse Pub 1001 S 8th St Manitowoc
UID:e.361.13578
SEQUENCE:3
DTSTAMP:20260426T043331Z
URL:https://business.chambermanitowoccounty.org/events/details/ribbon-cutting-at-courthouse-pub-13578
END:VEVENT

END:VCALENDAR
