BEGIN:VCALENDAR
VERSION:2.0
PRODID:-//ChamberMaster//Event Calendar 2.0//EN
METHOD:PUBLISH
X-PUBLISHED-TTL:P3D
REFRESH-INTERVAL:P3D
CALSCALE:GREGORIAN
BEGIN:VEVENT
DTSTART:20210422T140000Z
DTEND:20210422T150000Z
X-MICROSOFT-CDO-ALLDAYEVENT:FALSE
SUMMARY:Ribbon Cutting at Grow It Forward's New Greenhouse and Community Garden
DESCRIPTION:The City of Manitowoc and Grow It Forward are conducting a ribbon cutting for the new greenhouse and community garden upgrades located at 2344 S. 14th St.\, Manitowoc.  \n\n\n\nFree garden educational materials and free garden seeds will be available. Grow it Forward will also be announcing their upcoming summer programming at the community garden.
X-ALT-DESC;FMTTYPE=text/html:<br />\n<span style="font-size:14px\;"><span style="font-family:arial\;">The City of Manitowoc and Grow It Forward are conducting a ribbon cutting for the new greenhouse and community garden upgrades located at 2344 S. 14th St.\, Manitowoc.&nbsp\;&nbsp\;<br />\n<br />\nFree garden educational materials and free garden seeds will be available. Grow it Forward will also be announcing their upcoming summer programming at the community garden.</span></span>
LOCATION:2344 S. 14th St. Manitowoc
UID:e.361.16144
SEQUENCE:3
DTSTAMP:20260424T165057Z
URL:https://business.chambermanitowoccounty.org/events/details/ribbon-cutting-at-grow-it-forward-s-new-greenhouse-and-community-garden-16144
END:VEVENT

END:VCALENDAR
