BEGIN:VCALENDAR
VERSION:2.0
PRODID:-//ChamberMaster//Event Calendar 2.0//EN
METHOD:PUBLISH
X-PUBLISHED-TTL:P3D
REFRESH-INTERVAL:P3D
CALSCALE:GREGORIAN
BEGIN:VEVENT
DTSTART:20190821T150000Z
DTEND:20190821T170000Z
X-MICROSOFT-CDO-ALLDAYEVENT:FALSE
SUMMARY:Ribbon Cutting at The Y
DESCRIPTION:Come Celebrate 50 Years with The Y!\n\n\n\nA ribbon cutting celebration will be held at The Y on August 21st at 10:00 am with free to the community open house following the celebration from 10am to 1pm.  Guided tours and refreshments will be provided.  The community is invited to be a part of the Building What Matter Grand Reopening as we celebrate the newly remodeled YMCA and 50 year anniversary of our building.
X-ALT-DESC;FMTTYPE=text/html:<br />\nCome Celebrate 50 Years with The Y!<br />\n<br />\nA ribbon cutting celebration will be held at The Y on August 21st at 10:00 am with free to the community open house following the celebration from 10am to 1pm.&nbsp\; Guided tours and refreshments will be provided.&nbsp\; The community is invited to be a part of the Building What Matter Grand Reopening as we celebrate the newly remodeled YMCA and 50 year anniversary of our building.
LOCATION:Manitowoc-Two Rivers Y 205 Maritime Dr.\, Manitowoc
UID:e.361.14453
SEQUENCE:3
DTSTAMP:20260425T171257Z
URL:https://business.chambermanitowoccounty.org/events/details/ribbon-cutting-at-the-y-14453
END:VEVENT

END:VCALENDAR
