BEGIN:VCALENDAR
VERSION:2.0
PRODID:-//ChamberMaster//Event Calendar 2.0//EN
METHOD:PUBLISH
X-PUBLISHED-TTL:P3D
REFRESH-INTERVAL:P3D
CALSCALE:GREGORIAN
BEGIN:VEVENT
DTSTART:20210601T213000Z
DTEND:20210601T230000Z
X-MICROSOFT-CDO-ALLDAYEVENT:FALSE
SUMMARY:Ribbon Cutting at Treehouse Theater
DESCRIPTION:Treehouse Theater (THT) is very proud to have invested in downtown Manitowoc!   Over the past two years \,THT has created an amazing new Youth Arts Center ~ thanks to 5\,000 hours of volunteer labor\, generous subcontractors\, and supporters of our Capital Campaign.  Please join the dedicated leaders and fans of this nonprofit organization for a tour of the fully revitalized Antique Mall.  Just like their quality youth arts programming\, fundraisers\, and live performances\, the new building interior is certain to surpass all of your expectations!\n\nJune 1 marks the start of their 10th year of operation and THT is thrilled to resume quality youth arts programming.  Regardless of financial situation\, THT provides a high-quality creative outlet for ages 4-18 to express themselves\, explore individuality\, improve self-confidence\, and develop valuable life skills including responsibility\, accountability\, and teamwork.  For more information\, please visit www.treehousetheater.com.\n\nRibbon Cutting will be held at 4:30 pm with tours provided until 6:00 pm.  TWO Open Houses are also planned ~ June 3 & 4 from 4-7 pm.  All are welcome to stop in and see downtown Manitowoc's amazing new youth arts center.
X-ALT-DESC;FMTTYPE=text/html:<p class="04xlpa"><span style="font-size:14px\;"><span style="font-family:arial\;"><span class="jsgrdq"><span style="color: black\;">Treehouse Theater (THT) is very proud to have invested in downtown Manitowoc!&nbsp\; &nbsp\;Over the past two years \,THT has created an amazing new Youth Arts Center ~ thanks to 5\,000 hours of volunteer labor\, generous subcontractors\, and supporters of our Capital Campaign. &nbsp\;Please join the dedicated leaders and fans of this nonprofit organization for a tour of the fully revitalized Antique Mall.&nbsp\; Just like their quality youth arts programming\, fundraisers\, and live performances\, the new building interior is certain to surpass all of your expectations!</span></span></span></span></p>\n\n<p class="04xlpa"><span style="font-size:14px\;"><span style="font-family:arial\;"><span class="jsgrdq"><span style="color: black\;">June 1 marks the start of their 10<sup>th</sup> year of operation and THT is thrilled to resume quality youth arts programming.&nbsp\; Regardless of financial situation\, THT provides a high-quality creative outlet for ages 4-18 to express themselves\, explore individuality\, improve self-confidence\, and develop valuable life skills including responsibility\, accountability\, and teamwork.&nbsp\; For more information\, please visit <a href="http://www.treehousetheater.com">www.treehousetheater.com</a>.</span></span></span></span></p>\n\n<p class="04xlpa"><span style="font-size:14px\;"><span style="font-family:arial\;"><span class="jsgrdq"><span style="color: black\;">Ribbon Cutting will be held at <b>4:30 pm</b> with tours provided until 6:00 pm. &nbsp\;TWO&nbsp\;Open Houses are also planned ~ June 3 &amp\; 4 from 4-7 pm. &nbsp\;</span></span><span style="color: black\;">All are welcome&nbsp\;to stop in and see downtown Manitowoc&rsquo\;s&nbsp\;amazing new youth arts center.</span></span></span></p>\n
LOCATION:Treehouse Theater 910 Washington St. Manitowoc
UID:e.361.16159
SEQUENCE:3
DTSTAMP:20260424T134745Z
URL:https://business.chambermanitowoccounty.org/events/details/ribbon-cutting-at-treehouse-theater-16159
END:VEVENT

END:VCALENDAR
