BEGIN:VCALENDAR
VERSION:2.0
PRODID:-//ChamberMaster//Event Calendar 2.0//EN
METHOD:PUBLISH
X-PUBLISHED-TTL:P3D
REFRESH-INTERVAL:P3D
CALSCALE:GREGORIAN
BEGIN:VEVENT
DTSTART:20221025T210000Z
DTEND:20221025T220000Z
X-MICROSOFT-CDO-ALLDAYEVENT:FALSE
SUMMARY:Ribbon Cutting Dalton Carpet Outlet
DESCRIPTION:Ribbon Cutting:\n\nFor 28 years Dalton Carpet Outlet has been serving the Manitowoc community and all of their flooring needs. A lot has changed over that time! Long gone are green shag carpet and yellow linoleum.\n\nCome meet our new store manager\, Jim Walker\, and let him show you all the new looks and materials in the world of flooring. Food & beverages will be available also!\n\nHelp us celebrate as we kick off the next 28 years in the great city of Manitowoc!
X-ALT-DESC;FMTTYPE=text/html:Ribbon Cutting:<br />\nFor 28 years Dalton Carpet Outlet has been serving the Manitowoc community and all of their flooring needs. A lot has changed over that time! Long gone are green shag carpet and yellow linoleum.<br />\nCome meet our new store manager\, Jim Walker\, and let him show you all the new looks and materials in the world of flooring. Food &amp\; beverages will be available also!<br />\nHelp us celebrate as we kick off the next 28 years in the great city of Manitowoc!<br />\n&nbsp\;
LOCATION:3741 Dewey Street Manitowoc
UID:e.361.18052
SEQUENCE:3
DTSTAMP:20260420T050611Z
URL:https://business.chambermanitowoccounty.org/events/details/ribbon-cutting-dalton-carpet-outlet-18052
END:VEVENT

END:VCALENDAR
