BEGIN:VCALENDAR
VERSION:2.0
PRODID:-//ChamberMaster//Event Calendar 2.0//EN
METHOD:PUBLISH
X-PUBLISHED-TTL:P3D
REFRESH-INTERVAL:P3D
CALSCALE:GREGORIAN
BEGIN:VEVENT
DTSTART:20211130T223000Z
DTEND:20211130T230000Z
X-MICROSOFT-CDO-ALLDAYEVENT:FALSE
SUMMARY:Ribbon Cutting- Granary Boutique
DESCRIPTION:Join us for a Ribbon Cutting at Granary\, a new boutique coming to downtown Manitowoc.
X-ALT-DESC;FMTTYPE=text/html:<span style="font-family:comic sans ms\;"><span style="font-size:16px\;">Join us for a Ribbon Cutting at Granary\, a new boutique coming to downtown Manitowoc.</span></span>
LOCATION:206 N. 8th Street\, Manitowoc
UID:e.361.17146
SEQUENCE:3
DTSTAMP:20260422T195057Z
URL:https://business.chambermanitowoccounty.org/events/details/ribbon-cutting-granary-boutique-17146
END:VEVENT

END:VCALENDAR
