BEGIN:VCALENDAR
VERSION:2.0
PRODID:-//ChamberMaster//Event Calendar 2.0//EN
METHOD:PUBLISH
X-PUBLISHED-TTL:P3D
REFRESH-INTERVAL:P3D
CALSCALE:GREGORIAN
BEGIN:VEVENT
DTSTART:20230601T170000Z
DTEND:20230601T180000Z
X-MICROSOFT-CDO-ALLDAYEVENT:FALSE
SUMMARY:Ribbon Cutting/Grand Opening 4given Coffee Shoppe
DESCRIPTION:4GIVEN  COFFEE SHOPPE is all about serving our customers and our community with fresh ingredients and quality products.   Not only that\, we have created a space for all to come gather with friends and family where people can relax\, play some games\, read a book\, or conduct business all while enjoying a drink from our menu.
X-ALT-DESC;FMTTYPE=text/html:4GIVEN &nbsp\;COFFEE SHOPPE is all about serving our customers and our community with fresh ingredients and quality products.&nbsp\;&nbsp\; Not only that\, we have created a space for all to come gather with friends and family where people can relax\, play some games\, read a book\, or conduct business all while enjoying a drink from our menu.&nbsp\; &nbsp\;&nbsp\;
LOCATION:1034 S. 18th Street Manitowoc\, WI 54220
UID:e.361.18908
SEQUENCE:3
DTSTAMP:20260419T160605Z
URL:https://business.chambermanitowoccounty.org/events/details/ribbon-cutting-grand-opening-4given-coffee-shoppe-18908
END:VEVENT

END:VCALENDAR
