BEGIN:VCALENDAR
VERSION:2.0
PRODID:-//ChamberMaster//Event Calendar 2.0//EN
METHOD:PUBLISH
X-PUBLISHED-TTL:P3D
REFRESH-INTERVAL:P3D
CALSCALE:GREGORIAN
BEGIN:VEVENT
DTSTART:20230517T170000Z
DTEND:20230517T180000Z
X-MICROSOFT-CDO-ALLDAYEVENT:FALSE
SUMMARY:Ribbon Cutting Grand Opening The Pickle Ball Connection
DESCRIPTION:The Pickleball Connection Club members are excited to welcome you to our ribbon cutting at noon May 17 at 1455 N.Rapids Road. We are a four-court club designed\, built and operated exclusively by volunteers.  We are growing the sport in the county and state.  We have had players from Florida\, Minnesota\, Hawaii\, Illinois and at least ten Wisconsin counties.  We play\, teach and host community events and invite you to our ribbon cutting open house to see what we and pickleball are all about!
X-ALT-DESC;FMTTYPE=text/html:The Pickleball Connection Club members are excited to welcome you to our ribbon cutting at noon May 17 at 1455 N.Rapids Road. We are a four-court club designed\, built and operated exclusively by volunteers.&nbsp\; We are growing the sport in the county and state.&nbsp\; We have had players from Florida\, Minnesota\, Hawaii\, Illinois and at least ten Wisconsin counties. &nbsp\;We play\, teach and host community events and invite you to our ribbon cutting open house to see what we and pickleball are all about!
LOCATION:1455 N. Rapids Road Manitowoc\, WI 54220
UID:e.361.18666
SEQUENCE:3
DTSTAMP:20260419T191037Z
URL:https://business.chambermanitowoccounty.org/events/details/ribbon-cutting-grand-opening-the-pickle-ball-connection-18666
END:VEVENT

END:VCALENDAR
