BEGIN:VCALENDAR
VERSION:2.0
PRODID:-//ChamberMaster//Event Calendar 2.0//EN
METHOD:PUBLISH
X-PUBLISHED-TTL:P3D
REFRESH-INTERVAL:P3D
CALSCALE:GREGORIAN
BEGIN:VEVENT
DTSTART:20221213T220000Z
DTEND:20221213T230000Z
X-MICROSOFT-CDO-ALLDAYEVENT:FALSE
SUMMARY:Ribbon Cutting Impact Beauty Bar
DESCRIPTION:Impact Beauty Bar is a Med Spa using cutting edge technology to offer you the most advanced services for all of your health and beauty needs.   We offer CryoSlimming\, CryoToning\, CryoFacials\, Professional Teeth Whitening and Red light Treatments.  CryoSlimming is our most popular service using controlled cold to freeze fat cells\, permanently destroying them which allows for people to target those stubborn areas that diet and exercise don't always help.  Controlled cold also increases collagen production which makes our CryoFacial like no other facial around.  It reduces fine lines\, wrinkles\, discoloration\, pore size\, puffiness and acne all while leaving your face feeling silky soft with a youthful glow! Check us out at impactbeautybar.com. We would love to help you look and feel your best! Join us at our ribbon cutting for free refreshments and appetizers. Also\, anyone who attends receives 50% off any one regular priced service of their choice!
X-ALT-DESC;FMTTYPE=text/html:Impact Beauty Bar is a Med Spa using cutting edge technology to offer you the most advanced services for all of your health and beauty needs. &nbsp\;&nbsp\;We offer CryoSlimming\, CryoToning\, CryoFacials\, Professional Teeth Whitening and Red light Treatments.&nbsp\; CryoSlimming is our most popular service using controlled cold to freeze fat cells\, permanently destroying them which allows for people to target those stubborn areas that diet and exercise don&rsquo\;t always help.&nbsp\; Controlled cold also increases collagen production which makes our CryoFacial like no other facial around.&nbsp\; It reduces fine lines\, wrinkles\, discoloration\, pore size\, puffiness and acne all while leaving your face feeling silky soft with a youthful glow! Check us out at impactbeautybar.com. We would love to help you look and feel your best! Join us at our ribbon cutting for free refreshments and appetizers. Also\, anyone who attends receives 50% off any one regular priced service of their choice!
LOCATION:624 N. 8th Street Suite 205 Manitowoc\, WI 54220
UID:e.361.18116
SEQUENCE:3
DTSTAMP:20260420T021342Z
URL:https://business.chambermanitowoccounty.org/events/details/ribbon-cutting-impact-beauty-bar-18116
END:VEVENT

END:VCALENDAR
