BEGIN:VCALENDAR
VERSION:2.0
PRODID:-//ChamberMaster//Event Calendar 2.0//EN
METHOD:PUBLISH
X-PUBLISHED-TTL:P3D
REFRESH-INTERVAL:P3D
CALSCALE:GREGORIAN
BEGIN:VEVENT
DTSTART:20221026T170000Z
DTEND:20221026T173000Z
X-MICROSOFT-CDO-ALLDAYEVENT:FALSE
SUMMARY:Ribbon Cutting Izumi Sushi & Asian Fusion
DESCRIPTION:Join us for our Ribbon Cutting at Izumi Sushi and Asian Fusion\n\nWe will have maki roll & appetizers. Come check us out!
X-ALT-DESC;FMTTYPE=text/html:Join us for our Ribbon Cutting at Izumi Sushi and Asian Fusion<br />\nWe will have maki roll &amp\; appetizers. Come check us out!
LOCATION:50 Maritime Drive Manitowoc\, WI
UID:e.361.18050
SEQUENCE:3
DTSTAMP:20260420T033745Z
URL:https://business.chambermanitowoccounty.org/events/details/ribbon-cutting-izumi-sushi-asian-fusion-18050
END:VEVENT

END:VCALENDAR
