BEGIN:VCALENDAR
VERSION:2.0
PRODID:-//ChamberMaster//Event Calendar 2.0//EN
METHOD:PUBLISH
X-PUBLISHED-TTL:P3D
REFRESH-INTERVAL:P3D
CALSCALE:GREGORIAN
BEGIN:VEVENT
DTSTART:20230725T210000Z
DTEND:20230725T220000Z
X-MICROSOFT-CDO-ALLDAYEVENT:FALSE
SUMMARY:Ribbon Cutting-Lakeshore Foster Families & Friends
DESCRIPTION:This month\, Lakeshore Foster Families and Friends celebrates 5 years as a registered non profit organization\, as well as an expansion to their building space. LFFF is a non-profit organization working to support foster and kinship (relative placement) children and the families who care for them by raising awareness and providing much-needed resources and support. They continue to grow in both the services they provide and the families they reach. The additional office space allows them to better serve their families by continuing to have their dedicated "Care Closet\," but also space that can be used to facilitate support programs. Join them for light snacks and refreshments while seeing the new space\, Care Closet\, and learning more about the organization. All are welcome to stop in!
X-ALT-DESC;FMTTYPE=text/html:<span style="font-family:calibri\,sans-serif\;"><span style="font-size:11.0pt\;">This month\, Lakeshore Foster Families and Friends celebrates 5 years as a registered non profit organization\, as well as an expansion to their building space. LFFF is a non-profit organization working to support foster and kinship (relative placement) children and the families who care for them by raising awareness and providing much-needed resources and support. They continue to grow in both the services they provide and the families they reach. The additional office space allows them to better serve their families by continuing to have their dedicated &ldquo\;Care Closet\,&rdquo\; but also space that can be used to facilitate support programs. Join them for light snacks and refreshments while seeing the new space\, Care Closet\, and learning more about the organization. All are welcome to stop in!&nbsp\;&nbsp\;</span></span>
LOCATION:1011 Washington Street Suite 6 Manitowoc\, WI 54220
UID:e.361.18936
SEQUENCE:3
DTSTAMP:20260419T144219Z
URL:https://business.chambermanitowoccounty.org/events/details/ribbon-cutting-lakeshore-foster-families-friends-18936
END:VEVENT

END:VCALENDAR
