BEGIN:VCALENDAR
VERSION:2.0
PRODID:-//ChamberMaster//Event Calendar 2.0//EN
METHOD:PUBLISH
X-PUBLISHED-TTL:P3D
REFRESH-INTERVAL:P3D
CALSCALE:GREGORIAN
BEGIN:VEVENT
DTSTART:20220825T210000Z
DTEND:20220825T230000Z
X-MICROSOFT-CDO-ALLDAYEVENT:FALSE
SUMMARY:Ribbon Cutting/ Open House WI Vein
DESCRIPTION:Wisconsin Vein Center believes You should be the best You can be.  At Wisconsin Vein Center we offer state of the art treatments to make your dreams and goals come true.  \n\nWisconsin Vein Center has transformative services to restore function\, health and vitality to heavy\, achey\, tired swollen legs to allow you to do more of the activities you enjoy better and pain free. \n\nStep into our Aesthetic Institute and turn back the clock and look and feel years younger or\, prepare to look your very best for that special event.  \n\nWisconsin Vein Center located at 940 Maritime Dr.\, Suite 4\, Manitowoc\, is excited to announce their new state of the art services in Body Sculpting\, skin tightening\, and muscle toning called EVOLVE at a very special Ribbon Cutting Ceremony August 25\, 2022 4-6pm. During this fun event we will provide educational tours\, live ultrasound demonstrations\, live music from Janet Planet\, delicious food and appetizers\, as well as contests for service discounts and free treatments!\n\n \n\nWisconsin Vein Center offers exciting\, painless and transformative treatments including Medical grade luxury skin care products\, Skin Rejuvenation\, Laser Hair Removal\, Medical Weight Loss\, Medical Grade Skin Peels\, Botox\, Fillers and Varicose Vein and Spider Vein treatments to help you reach your personal goals.\n\n \n\nPlease join us on August 25\, 2022 4-6 pm for the Ribbon Cutting Ceremony and celebration.  We are so excited to celebrate with you!
X-ALT-DESC;FMTTYPE=text/html:<span style="font-family:arial nova\,sans-serif\;"><span style="font-size:12.0pt\;">Wisconsin Vein Center believes You should be the best You can be.&nbsp\; At Wisconsin Vein Center we offer state of the art treatments to make your dreams and goals come true.&nbsp\; </span></span><br />\n<span style="font-family:arial nova\,sans-serif\;"><span style="font-size:12.0pt\;">Wisconsin Vein Center has transformative services to restore function\, health and vitality to heavy\, achey\, tired swollen legs to allow you to do more of the activities you enjoy better and pain free. </span></span><br />\n<span style="font-family:arial nova\,sans-serif\;"><span style="font-size:12.0pt\;">Step into our Aesthetic Institute and turn back the clock and look and feel years younger or\, prepare to look your very best for that special event.&nbsp\; </span></span><br />\n<span style="color:black\;"><a href="https://www.facebook.com/wiveincenter/?__cft__%5b0%5d=AZXDCz24LnumxaXcqW-3G5HOw2z6KVmwADy2t8X2TBxe8PiBkXQTHesC74QsCbFuEsZ05dH6VsV2r27FDP3a-eRXigV-H9wYLC4Nd0ofTSgMMGWRiSazMPFNAOPfpa3VISrqZ_-vvcuHX1A_fxGYTYxaChq0vhaA2NttP96s3QKhVUC_hlXsAZ5sQRsCAco7mGZT7cO_Cz1OPwg_hpSjW8-tTzLzvTod_wlk--XdTSaWVsVd9obhmcQWK2Ew-A6FR9s&amp\;__tn__=kK-y-R"><span style="border:none windowtext 1.0pt\;padding:0in\;text-decoration:none\;text-underline:none\;"><span style="color:black\;"><span style="font-family:arial nova\,sans-serif\;"><span style="font-size:12.0pt\;">Wisconsin Vein Center</span></span></span></span></a></span> <span style="color:#050505\;"><span style="font-family:arial nova\,sans-serif\;"><span style="font-size:12.0pt\;">located at 940 Maritime Dr.\, Suite 4\, Manitowoc\, is excited to announce their new state of the art services in Body Sculpting\, skin tightening\, and muscle toning called EVOLVE at a very special Ribbon Cutting Ceremony August 25\, 2022 4-6pm. During this fun event we will provide educational tours\, live ultrasound demonstrations\, live music from Janet Planet\, delicious food and appetizers\, as well as contests for service discounts and free treatments!</span></span></span><br />\n&nbsp\;<br />\n<span style="color:#050505\;"><span style="font-family:arial nova\,sans-serif\;"><span style="font-size:12.0pt\;">Wisconsin Vein Center offers exciting\, painless and transformative treatments including Medical grade luxury skin care products\, Skin Rejuvenation\, Laser Hair Removal\, Medical Weight Loss\, Medical Grade Skin Peels\, Botox\, Fillers and Varicose Vein and Spider Vein treatments to help you reach your personal goals.</span></span></span><br />\n&nbsp\;<br />\n<span style="color:#050505\;"><span style="font-family:arial nova\,sans-serif\;"><span style="font-size:12.0pt\;">Please join us on August 25\, 2022 4-6 pm for the Ribbon Cutting Ceremony and celebration.&nbsp\; We are so excited to celebrate with you!</span></span></span>
LOCATION:940 Maritime Drive Suite 4 Manitowoc
UID:e.361.18012
SEQUENCE:3
DTSTAMP:20260420T065116Z
URL:https://business.chambermanitowoccounty.org/events/details/ribbon-cutting-open-house-wi-vein-18012
END:VEVENT

END:VCALENDAR
