BEGIN:VCALENDAR
VERSION:2.0
PRODID:-//ChamberMaster//Event Calendar 2.0//EN
METHOD:PUBLISH
X-PUBLISHED-TTL:P3D
REFRESH-INTERVAL:P3D
CALSCALE:GREGORIAN
BEGIN:VEVENT
DTSTART:20230202T220000Z
DTEND:20230202T230000Z
X-MICROSOFT-CDO-ALLDAYEVENT:FALSE
SUMMARY:Ribbon Cutting The Granary Yoga & Wellness
DESCRIPTION:The Granary Wellness is a Yoga &  Wellness studio in Downtown Manitowoc. The Granary's mission is to empower our community to learn about holistic wellness & healing. They have yoga classes\, sound baths\, bath bomb making classes\, and many other wellness classes & events to choose from. Their wellness boutique offers a variety of self-care and holistic healing items to help you in your healing journey. During our Ribbon Cutting Open House we will have 20% off the Wellness Boutique as well as a giveaway of a 5-Class Package for Yoga. The 5:30 Slow Flow Yoga Class will be offered at a discounted rate this night only as well. Registration for this class is at thegranarywellness.com.
X-ALT-DESC;FMTTYPE=text/html:The Granary Wellness is a Yoga &amp\; &nbsp\;Wellness studio in Downtown Manitowoc. The Granary&rsquo\;s mission is to empower our community to learn about holistic wellness &amp\; healing. They have yoga classes\, sound baths\, bath bomb making classes\, and many other wellness classes &amp\; events to choose from. Their wellness boutique offers a variety of self-care and holistic healing items to help you in your healing journey. During our Ribbon Cutting Open House we will have 20% off the Wellness Boutique as well as a giveaway of a 5-Class Package for Yoga. The 5:30 Slow Flow Yoga Class will be offered at a <u>discounted rate</u> this night only as well. Registration for this class is at <a href="http://thegranarywellness.com">thegranarywellness.com</a>.&nbsp\;
LOCATION:206 North 8th Street Manitowoc\, WI 54220
UID:e.361.18394
SEQUENCE:3
DTSTAMP:20260419T221118Z
URL:https://business.chambermanitowoccounty.org/events/details/ribbon-cutting-the-granary-yoga-wellness-18394
END:VEVENT

END:VCALENDAR
