BEGIN:VCALENDAR
VERSION:2.0
PRODID:-//ChamberMaster//Event Calendar 2.0//EN
METHOD:PUBLISH
X-PUBLISHED-TTL:P3D
REFRESH-INTERVAL:P3D
CALSCALE:GREGORIAN
BEGIN:VEVENT
DTSTART:20181011T123000Z
DTEND:20181011T143000Z
X-MICROSOFT-CDO-ALLDAYEVENT:FALSE
SUMMARY:Safety Program- Medications in the Workplace
DESCRIPTION:Both legitimate and illegitimate prescription drug use of employees can affect business in many ways. As an owner or manager\, have you thought about how your employees' medication use can impact the workplace? Being proactive can help save money and improve productivity. What steps can you take as an employer to protect your employees and the business? These questions and more will be addressed in the hour long presentation.\n\n \n\nMeet the Speakers:\n\n\n\nMarv Moore\n\n\n\nMarv has been the pharmacy manager of The Medicine Shoppe for 12 years and the owner for the past 7 years.  After graduating with his Doctor of Pharmacy degree from the University of Wisconsin in 2002\, Marv completed a community pharmacy practice residency through the University of Iowa.  Marv is a Clinical Instructor for the University Wisconsin School of Pharmacy and is on the Editorial Advisory Board for Drug Topics magazine.\n\n\n\nSince moving to Two Rivers\, Marv has been actively involved in the community.  He has been recognized as the Young Professional of the Year by the Chamber of Manitowoc County and as the Board Member of the Year by Two Rivers Main Street. He is currently serving on the Board of Directors of the Chamber of Manitowoc County and is the President-Elect of the Kiwanis Club of Two Rivers.  \n\n\n\nRick Balzan\n\n\n\nRick has more than 20 years of experience as a human resources professional. He is skilled in areas such as training\, recruitment\, policy and strategy. As a human resources director\, Rick provides one-on-one guidance and counsel\, along with the ability to analyze and offer solutions to everyday HR challenges.\n\n \n\nPrior to joining Sharon S. Richardson Community Hospice\, Rick worked as an independent business advisor. He also has more than 10 years of experience as a college level instructor\, and has worked in the field overseeing human resources needs for an organization's Midwest region.
X-ALT-DESC;FMTTYPE=text/html:<span style="font-size:16px\;"><em><span style="font-family:calibri\,sans-serif\;">Both legitimate and illegitimate prescription&nbsp\;drug use of employees can affect business&nbsp\;in many ways. As an owner or manager\, have you thought about how your employees&#39\; medication use can impact the workplace? Being proactive can help save money and improve productivity.&nbsp\;What steps can you take as an employer to protect your employees and the business? These questions and more will be addressed in the hour long&nbsp\;presentation.</span></em></span><br />\n&nbsp\;<br />\n<span style="font-size:12.0pt\;">Meet the Speakers:</span><br />\n<br />\n<strong><span style="font-size:12.0pt\;">Marv Moore</span></strong><br />\n<br />\n<span style="font-size:12.0pt\;">Marv has been the pharmacy manager of The Medicine Shoppe for 12 years and the owner for the past 7 years.&nbsp\; After graduating with his Doctor of Pharmacy degree from the University of Wisconsin in 2002\, Marv completed a community pharmacy practice residency through the University of Iowa. &nbsp\;Marv is a Clinical Instructor for the University Wisconsin School of Pharmacy and is on the Editorial Advisory Board for <em>Drug Topics</em> magazine.</span><br />\n<br />\n<span style="font-size:12.0pt\;">Since moving to Two Rivers\, Marv has been actively involved in the community.&nbsp\; He has been recognized as the Young Professional of the Year by the Chamber of Manitowoc County and as the Board Member of the Year by Two Rivers Main Street. He is currently serving on the Board of Directors of the Chamber of Manitowoc County and is the President-Elect of the Kiwanis Club of Two Rivers. &nbsp\;</span><br />\n<br />\n<strong><span style="font-size:12.0pt\;">Rick Balzan</span></strong><br />\n<br />\n<span style="font-size:12.0pt\;">Rick has more than 20 years of experience as a human resources professional. He is skilled in&nbsp\;</span><span style="font-size:12.0pt\;">areas such as training\, recruitment\, policy and strategy.&nbsp\;</span><span style="font-size:12.0pt\;">As a human resources director\, Rick provides one-on-one guidance and counsel\, along with&nbsp\;</span><span style="font-size:12.0pt\;">the ability to analyze and offer solutions to everyday HR challenges.</span><br />\n&nbsp\;<br />\n<span style="font-size:12.0pt\;">Prior to joining Sharon S. Richardson Community Hospice\, Rick worked as an independent business advisor. He also has more than 10 years of experience as a college level instructor\, and has worked in the field overseeing human resources needs for an organization&rsquo\;s Midwest region. </span>
LOCATION:Fox Hills Resort 250 W. Church St. Mishicot
UID:e.361.13540
SEQUENCE:3
DTSTAMP:20260426T042938Z
URL:https://business.chambermanitowoccounty.org/events/details/safety-program-medications-in-the-workplace-13540
END:VEVENT

END:VCALENDAR
