BEGIN:VCALENDAR
VERSION:2.0
PRODID:-//ChamberMaster//Event Calendar 2.0//EN
METHOD:PUBLISH
X-PUBLISHED-TTL:P3D
REFRESH-INTERVAL:P3D
CALSCALE:GREGORIAN
BEGIN:VEVENT
DTSTART:20190225T133000Z
DTEND:20190225T150000Z
X-MICROSOFT-CDO-ALLDAYEVENT:FALSE
SUMMARY:Safety Walk - Tramontina U.S. Cookware\, Inc.
DESCRIPTION:Safety Walk - Tramontina U.S. Cookware\, Inc.\n\n\n\nVisit Tramontina U.S. Cookware\, Inc.\, the 2018 Safety\, Health & Wellness Organization of the Year Award winner and see firsthand how they are focused and committed to providing a safe and healthy work environment for their employees. \n\n\n\n7:30-7:45: Short presentation on Tramontine U.S. Cookware\, Inc.\n\n7:45-9:00: Tour the facility
X-ALT-DESC;FMTTYPE=text/html:Safety Walk - Tramontina U.S. Cookware\, Inc.<br />\n<br />\nVisit Tramontina U.S. Cookware\, Inc.\, the 2018 Safety\, Health &amp\; Wellness Organization of the Year Award winner and see firsthand how they are focused and committed to providing a safe and healthy work environment for their employees.&nbsp\;<br />\n<br />\n7:30-7:45: Short presentation on Tramontine U.S. Cookware\, Inc.<br />\n7:45-9:00: Tour the facility&nbsp\;<br />\n<br />\n<br />\n&nbsp\;
LOCATION:Tramontina U.S. Cookware Inc. 2005 Mirro Dr.\, Manitowoc
UID:e.361.13778
SEQUENCE:3
DTSTAMP:20260426T010840Z
URL:https://business.chambermanitowoccounty.org/events/details/safety-walk-tramontina-u-s-cookware-inc-13778
END:VEVENT

END:VCALENDAR
