BEGIN:VCALENDAR
VERSION:2.0
PRODID:-//ChamberMaster//Event Calendar 2.0//EN
METHOD:PUBLISH
X-PUBLISHED-TTL:P3D
REFRESH-INTERVAL:P3D
CALSCALE:GREGORIAN
BEGIN:VEVENT
DTSTART:20091115T003000Z
DTEND:20091115T040000Z
X-MICROSOFT-CDO-ALLDAYEVENT:FALSE
SUMMARY:Sail Murder Mystery
DESCRIPTION:If you've never participated in a Murder Mystery\, now's your chance! This fun filled evening will be lined with deceit\, intrigue\, deception\, and last but not least\, murder!  Upon receiving your registration for the murder mystery\, you will be mailed a Character Packet. Inside this packet will be a description of the character that you are to portray once the mystery begins at 7:00 p.m. The character description will tell you the basic background\, occupation and the general type of person you are to portray along with some general instructions that you are to follow.  The event begins with a social gathering at 6:30 p.m. The hostess will give directions to the group before the mystery begins at 7:00 p.m. Once the "murder" is committed\, it is up to the characters (that would be you\, the participants) to solve the murder mystery by interacting with the other characters in the room! "Celebrity Celebrations"Check In begins at 6:30pmRegister today - Character are limited!
X-ALT-DESC;FMTTYPE=text/html:<div>If you&rsquo\;ve never participated in a Murder Mystery\, now&rsquo\;s your chance! This fun filled evening will be lined with deceit\, intrigue\, deception\, and last but not least\, murder!&nbsp\; Upon receiving your registration for the murder mystery\, you will be mailed a Character Packet. Inside this packet will be a description of the character that you are to portray once the mystery begins at 7:00 p.m. The character description will tell you the basic background\, occupation and the general type of person you are to portray along with some general instructions that you are to follow.&nbsp\; The event begins with a social gathering at 6:30 p.m. The hostess will give directions to the group before the mystery begins at 7:00 p.m. Once the &ldquo\;murder&rdquo\; is committed\, it is up to the characters (that would be you\, the participants) to solve the murder mystery by interacting with the other characters in the room!</div><div>&nbsp\;</div><div><div>&quot\;Celebrity Celebrations&quot\;</div><div>Check In begins at 6:30pm</div><div>Register today - Character are limited!</div></div>
LOCATION:Fox Hills Resort250 W. Church StMishicot
UID:e.361.1402
SEQUENCE:3
DTSTAMP:20260421T112807Z
URL:https://business.chambermanitowoccounty.org/events/details/sail-murder-mystery-11-14-2009-1402
END:VEVENT

END:VCALENDAR
