BEGIN:VCALENDAR
VERSION:2.0
PRODID:-//ChamberMaster//Event Calendar 2.0//EN
METHOD:PUBLISH
X-PUBLISHED-TTL:P3D
REFRESH-INTERVAL:P3D
CALSCALE:GREGORIAN
BEGIN:VEVENT
DTSTART:20191017T130000Z
DTEND:20191017T170000Z
X-MICROSOFT-CDO-ALLDAYEVENT:FALSE
SUMMARY:Senior Health & Information Fair
DESCRIPTION:Vendor Booths\, Flu Vaccinations (bring your insurance/Medical card)\, Health Screenings\, Drug Disposal Collection\, Continental Breakfast\, Presentations\, Door Prizes and  a LOT of great information! FREE Admission
X-ALT-DESC;FMTTYPE=text/html:Vendor Booths\, Flu Vaccinations (bring your insurance/Medical card)\, Health Screenings\, Drug Disposal Collection\, Continental Breakfast\, Presentations\, Door Prizes and&hellip\; a LOT of great information! FREE Admission
LOCATION:Two Rivers Community House
UID:e.361.14682
SEQUENCE:3
DTSTAMP:20260425T143426Z
URL:https://business.chambermanitowoccounty.org/events/details/senior-health-information-fair-14682
END:VEVENT

END:VCALENDAR
