BEGIN:VCALENDAR
VERSION:2.0
PRODID:-//ChamberMaster//Event Calendar 2.0//EN
METHOD:PUBLISH
X-PUBLISHED-TTL:P3D
REFRESH-INTERVAL:P3D
CALSCALE:GREGORIAN
BEGIN:VEVENT
DTSTART:20191026T140000Z
DTEND:20191026T160000Z
X-MICROSOFT-CDO-ALLDAYEVENT:FALSE
SUMMARY:Shaggy Shufflers-Strut Your Mutt
DESCRIPTION:The Lakeshore Humane Society's Shaggy Shuffle has teamed up with Best Friends this year to raise money to care for over 1\,500 lost and homeless animals each year. Please join us by registering for our team or donating to one of our team members. Our team will walk on October 26th at 9:00 a.m. starting at the Lakeshore Humane Society. http://support.bestfriends.org/goto/lakeshorehumanesocietyinc By registering as a team member you'll score some sweet swag from both the Lakeshore Humane Society and Best Friends! Join us at the 2 mile walk to celebrate your furry friends and meet some of the shelter animals your fundraising efforts will be helping! 100 percent of your registration goes directly to the Lakeshore Humane Society and is tax deductible. And the best part? That money will help save the lives of homeless pets right here in your community! Together\, we can Save Them All. Thank you for your support!
X-ALT-DESC;FMTTYPE=text/html:The Lakeshore Humane Society&#39\;s Shaggy Shuffle has teamed up with Best Friends this year to raise money to care for over 1\,500 lost and homeless animals each year. Please join us by registering for our team or donating to one of our team members. Our team will walk on October 26th at 9:00 a.m. starting at the Lakeshore Humane Society. http://support.bestfriends.org/goto/lakeshorehumanesocietyinc By registering as a team member you&#39\;ll score some sweet swag from both the Lakeshore Humane Society and Best Friends! Join us at the 2 mile walk to celebrate your furry friends and meet some of the shelter animals your fundraising efforts will be helping! 100 percent of your registration goes directly to the Lakeshore Humane Society and is tax deductible. And the best part? That money will help save the lives of homeless pets right here in your community! Together\, we can Save Them All. Thank you for your support!
LOCATION:1551 N. 8th. St Manitowoc WI 54220
UID:e.361.14814
SEQUENCE:3
DTSTAMP:20260425T143435Z
URL:https://business.chambermanitowoccounty.org/events/details/shaggy-shufflers-strut-your-mutt-14814
END:VEVENT

END:VCALENDAR
