BEGIN:VCALENDAR
VERSION:2.0
PRODID:-//ChamberMaster//Event Calendar 2.0//EN
METHOD:PUBLISH
X-PUBLISHED-TTL:P3D
REFRESH-INTERVAL:P3D
CALSCALE:GREGORIAN
BEGIN:VEVENT
DTSTART:20181223T013000Z
DTEND:20181223T030000Z
X-MICROSOFT-CDO-ALLDAYEVENT:FALSE
SUMMARY:Six Appeal Vocal Band
DESCRIPTION:It's a singing sensation sweeping the nation - A Capella! Listen to your favorite holiday classics with the harmonies\, soaring vocals and beat boxing skills of Six Appeal Vocal Band (recent winners of the Moscow A Cappella competition) LIVE at the Weill Center this Saturday\, Dec. 22 at 7:30 p.m.
X-ALT-DESC;FMTTYPE=text/html:It&#39\;s a singing sensation sweeping the nation - A Capella! Listen to your favorite holiday classics with the harmonies\, soaring vocals and beat boxing skills of Six Appeal Vocal Band (recent winners of the Moscow A Cappella competition) LIVE at the Weill Center this Saturday\, Dec. 22 at 7:30 p.m.
LOCATION:Weill Center for the Performing Arts\, 826 N. 8th St. Sheboygan
UID:e.361.13720
SEQUENCE:3
DTSTAMP:20260426T022020Z
URL:https://business.chambermanitowoccounty.org/events/details/six-appeal-vocal-band-13720
END:VEVENT

END:VCALENDAR
