BEGIN:VCALENDAR
VERSION:2.0
PRODID:-//ChamberMaster//Event Calendar 2.0//EN
METHOD:PUBLISH
X-PUBLISHED-TTL:P3D
REFRESH-INTERVAL:P3D
CALSCALE:GREGORIAN
BEGIN:VEVENT
DTSTART:20230729T160000Z
DTEND:20230729T170000Z
X-MICROSOFT-CDO-ALLDAYEVENT:FALSE
SUMMARY:Snowfest 2023 Parade
DESCRIPTION:Want to promote your business or organization and have a little fun doing it? We'd love to have you in the Snowfest 2023 parade. We'll be Rockin in the Eighties this year and there will be prizes for best entries for: 1) Most original\, 2)Most True to Theme\, and 3) Most Snowfest. If you are interested either email tworiverssnowfest@gmail.com or call 920-681-0542 and well will get the information to register headed your way. Deadline is June 1st so register today!
X-ALT-DESC;FMTTYPE=text/html:Want to promote your business or organization and have a little fun doing it? We&#39\;d love to have you in the Snowfest 2023 parade. We&#39\;ll be Rockin in the Eighties this year and there will be prizes for best entries for: 1) Most original\, 2)Most True to Theme\, and 3) Most Snowfest. If you are interested either email tworiverssnowfest@gmail.com or call 920-681-0542 and well will get the information to register headed your way. Deadline is June 1st so register today!
LOCATION:Two Rivers\, Wisconsin
UID:e.361.18881
SEQUENCE:3
DTSTAMP:20260419T143421Z
URL:https://business.chambermanitowoccounty.org/events/details/snowfest-2023-parade-18881
END:VEVENT

END:VCALENDAR
