BEGIN:VCALENDAR
VERSION:2.0
PRODID:-//ChamberMaster//Event Calendar 2.0//EN
METHOD:PUBLISH
X-PUBLISHED-TTL:P3D
REFRESH-INTERVAL:P3D
CALSCALE:GREGORIAN
BEGIN:VEVENT
DTSTART;VALUE=DATE:20190821
DTEND;VALUE=DATE:20190822
TRANSP:TRANSPARENT
X-MICROSOFT-CDO-ALLDAYEVENT:TRUE
SUMMARY:Social Media Strategies Summit
DESCRIPTION:This conference brings you top-notch social media guru's ready to give you applicable tips\, tricks and tactics to help your social media strategy excel!
X-ALT-DESC;FMTTYPE=text/html:This conference brings you top-notch social media guru&#39\;s ready to give you applicable tips\, tricks and tactics to help your social media strategy excel!
LOCATION:Holiday Inn & Suites\, Manitowoc\, WI
UID:e.361.14428
SEQUENCE:3
DTSTAMP:20260425T171403Z
URL:https://business.chambermanitowoccounty.org/events/details/social-media-strategies-summit-08-21-2019-14428
END:VEVENT

END:VCALENDAR
