BEGIN:VCALENDAR
VERSION:2.0
PRODID:-//ChamberMaster//Event Calendar 2.0//EN
METHOD:PUBLISH
X-PUBLISHED-TTL:P3D
REFRESH-INTERVAL:P3D
CALSCALE:GREGORIAN
BEGIN:VEVENT
DTSTART:20190409T140000Z
DTEND:20190409T170000Z
X-MICROSOFT-CDO-ALLDAYEVENT:FALSE
SUMMARY:Soil Health & Cover Crop Forum
DESCRIPTION:Join nationally-recognized Soil Health Expert and No-Till Farmer\, Barry Fisher from the Central Region Soil Health Division Natural Resources Conservation Service\, and Jamie Patton\, Senior Outreach Specialist\, NE WI Nutrient and Pest Managment Program UW-Madison\, UW-Extension as they talk about the practical way forward for cover crops and soil health. Discussion Topics Include: How to get a quicker return on investment and avoid mistakes others have already made. Adaptive nutrient strategies\, termination timing\, weed and pest management. Understanding carbon/nitrogen cycles\, pest/predator relationships and season management. Capturing Fall growing degree days and nutrients with early planted cover crops. Participants are eligible to earn 2.5 CEU's.
X-ALT-DESC;FMTTYPE=text/html:Join nationally-recognized Soil Health Expert and No-Till Farmer\, Barry Fisher from the Central Region Soil Health Division Natural Resources Conservation Service\, and Jamie Patton\, Senior Outreach Specialist\, NE WI Nutrient and Pest Managment Program UW-Madison\, UW-Extension as they talk about the practical way forward for cover crops and soil health. Discussion Topics Include: How to get a quicker return on investment and avoid mistakes others have already made. Adaptive nutrient strategies\, termination timing\, weed and pest management. Understanding carbon/nitrogen cycles\, pest/predator relationships and season management. Capturing Fall growing degree days and nutrients with early planted cover crops. Participants are eligible to earn 2.5 CEU&#39\;s.
LOCATION:Farm Wisconsin Discovery Center
UID:e.361.13805
SEQUENCE:3
DTSTAMP:20260425T215330Z
URL:https://business.chambermanitowoccounty.org/events/details/soil-health-cover-crop-forum-13805
END:VEVENT

END:VCALENDAR
