BEGIN:VCALENDAR
VERSION:2.0
PRODID:-//ChamberMaster//Event Calendar 2.0//EN
METHOD:PUBLISH
X-PUBLISHED-TTL:P3D
REFRESH-INTERVAL:P3D
CALSCALE:GREGORIAN
BEGIN:VEVENT
DTSTART:20230418T121500Z
DTEND:20230418T140000Z
X-MICROSOFT-CDO-ALLDAYEVENT:FALSE
SUMMARY:Speed Networking Event
DESCRIPTION:Join us for a quick way to expand your professional contacts. Speed networking is a fun\, facilitated event where you can connect with professionals without the worry of what to say or how to find someone to talk with. Kristin Odell frequently leads students and professionals through the art of meeting someone new with her special deck of cards\, prompt questions\, and laughter. Please join us for this interactive event to grow your personal and professional network.
X-ALT-DESC;FMTTYPE=text/html:<iframe allow="accelerometer\; autoplay\; clipboard-write\; encrypted-media\; gyroscope\; picture-in-picture\; web-share" allowfullscreen="" frameborder="0" height="315" src="https://www.youtube.com/embed/rYslbWXA74s" title="YouTube video player" width="560"></iframe><br />\n<br />\n<span style="font-size:14px\;"><span style="font-family:arial\;">Join us for a quick way to expand your professional contacts.&nbsp\;<span style="color: rgb(36\, 36\, 36)\;">Speed networking is a fun\, facilitated event where you can connect with professionals without the&nbsp\;worry of what to say or how to find someone to talk with. Kristin Odell frequently leads students&nbsp\;and professionals through the art of meeting someone new with her special deck of cards\, prompt questions\, and laughter. Please join us for this interactive&nbsp\;event to grow your personal and professional network.&nbsp\;</span></span></span>
LOCATION:Wisconsin Maritime Museum (Riverview Room) 75 Maritime Dr. Manitowoc\, WI 54220
UID:e.361.18655
SEQUENCE:3
DTSTAMP:20260419T190254Z
URL:https://business.chambermanitowoccounty.org/events/details/speed-networking-event-18655
END:VEVENT

END:VCALENDAR
