BEGIN:VCALENDAR
VERSION:2.0
PRODID:-//ChamberMaster//Event Calendar 2.0//EN
METHOD:PUBLISH
X-PUBLISHED-TTL:P3D
REFRESH-INTERVAL:P3D
CALSCALE:GREGORIAN
BEGIN:VEVENT
DTSTART:20230521T003000Z
DTEND:20230521T023000Z
X-MICROSOFT-CDO-ALLDAYEVENT:FALSE
SUMMARY:SSO Presents Cause for Celebration
DESCRIPTION:Minnesota composer Bancks takes us to both rural and urban "wild" spaces\, followed by Prokofiev's dazzling Second Violin Concerto. And Beethoven's Fifth\, from its bold first notes to its triumphant conclusion\, will be the perfect season finale! Jacob Bancks: Into the Wild Prokofiev: Violin Concerto No. 2 Soloist TBD Beethoven: Symphony No. 5 in C minor
X-ALT-DESC;FMTTYPE=text/html:Minnesota composer Bancks takes us to both rural and urban &ldquo\;wild&rdquo\; spaces\, followed by Prokofiev&rsquo\;s dazzling Second Violin Concerto. And Beethoven&rsquo\;s Fifth\, from its bold first notes to its triumphant conclusion\, will be the perfect season finale! Jacob Bancks: Into the Wild Prokofiev: Violin Concerto No. 2 Soloist TBD Beethoven: Symphony No. 5 in C minor
LOCATION:Weill Center
UID:e.361.18125
SEQUENCE:3
DTSTAMP:20260419T173114Z
URL:https://business.chambermanitowoccounty.org/events/details/sso-presents-cause-for-celebration-18125
END:VEVENT

END:VCALENDAR
