BEGIN:VCALENDAR
VERSION:2.0
PRODID:-//ChamberMaster//Event Calendar 2.0//EN
METHOD:PUBLISH
X-PUBLISHED-TTL:P3D
REFRESH-INTERVAL:P3D
CALSCALE:GREGORIAN
BEGIN:VEVENT
DTSTART:20221211T013000Z
DTEND:20221211T033000Z
X-MICROSOFT-CDO-ALLDAYEVENT:FALSE
SUMMARY:SSO Presents Messiah Returns
DESCRIPTION:Maestro Estigarribia leads his first SSO Messiah\, continuing our holiday tradition of Handel's sacred masterpiece with the Symphony Chorus. This will once again be a "sing-along" Messiah\, in addition to featuring a special lineup of soloists. Sponsored by Bemis Family Foundation George Frederick Handel: Messiah With the Sheboygan Symphony Chorus and soloists
X-ALT-DESC;FMTTYPE=text/html:Maestro Estigarribia leads his first SSO Messiah\, continuing our holiday tradition of Handel&rsquo\;s sacred masterpiece with the Symphony Chorus. This will once again be a &ldquo\;sing-along&rdquo\; Messiah\, in addition to featuring a special lineup of soloists. Sponsored by Bemis Family Foundation George Frederick Handel: Messiah With the Sheboygan Symphony Chorus and soloists
LOCATION:Weill Center
UID:e.361.18119
SEQUENCE:3
DTSTAMP:20260420T003847Z
URL:https://business.chambermanitowoccounty.org/events/details/sso-presents-messiah-returns-18119
END:VEVENT

END:VCALENDAR
