BEGIN:VCALENDAR
VERSION:2.0
PRODID:-//ChamberMaster//Event Calendar 2.0//EN
METHOD:PUBLISH
X-PUBLISHED-TTL:P3D
REFRESH-INTERVAL:P3D
CALSCALE:GREGORIAN
BEGIN:VEVENT
DTSTART:20230416T190000Z
DTEND:20230416T210000Z
X-MICROSOFT-CDO-ALLDAYEVENT:FALSE
SUMMARY:SSO Presents Remembering the Holocaust
DESCRIPTION:Featuring the SSO String Quartet\, the Sheboygan Symphony Chorus and the Sheboygan Symphony Chamber Singers In honor of Holocaust Remembrance Day (April 17)\, the SSO String Quartet\, the Sheboygan Symphony Chorus and the Sheboygan Symphony Chamber Singers present a concert of music by composers tragically silence by the Nazis\, plus a moving set of Hebrew Love Songs by Eric Whitacre. This concert is sure to be a poignant experience that will remind all of us that\, indeed\, "Love Conquers Hate."
X-ALT-DESC;FMTTYPE=text/html:Featuring the SSO String Quartet\, the Sheboygan Symphony Chorus and the Sheboygan Symphony Chamber Singers In honor of Holocaust Remembrance Day (April 17)\, the SSO String Quartet\, the Sheboygan Symphony Chorus and the Sheboygan Symphony Chamber Singers present a concert of music by composers tragically silence by the Nazis\, plus a moving set of Hebrew Love Songs by Eric Whitacre. This concert is sure to be a poignant experience that will remind all of us that\, indeed\, &ldquo\;Love Conquers Hate.&rdquo\;
LOCATION:Mead Public Library
UID:e.361.18124
SEQUENCE:3
DTSTAMP:20260419T190418Z
URL:https://business.chambermanitowoccounty.org/events/details/sso-presents-remembering-the-holocaust-18124
END:VEVENT

END:VCALENDAR
