BEGIN:VCALENDAR
VERSION:2.0
PRODID:-//ChamberMaster//Event Calendar 2.0//EN
METHOD:PUBLISH
X-PUBLISHED-TTL:P3D
REFRESH-INTERVAL:P3D
CALSCALE:GREGORIAN
BEGIN:VEVENT
DTSTART:20190531T230000Z
DTEND:20190601T020000Z
X-MICROSOFT-CDO-ALLDAYEVENT:FALSE
SUMMARY:Steel Magnolias Movie Screening
DESCRIPTION:Grab the ladies for movie night at the Weill! In honor of the movie's 30th Anniversary see Steel Magnolias on the big screen at the Weill Center. Come early to enjoy samples and services from our local salons\, spas and more! Doors open at 6 p.m. for salon samples\; Movie starts at 7 p.m. A cash bar is also available. Tickets are $5 and include complimentary popcorn. STEEL MAGNOLIAS (PG) This hilarious and heartwarming story of life\, love and loss revolves around a group of friends in Louisiana. At the center of the group is Shelby\, newly married and joyfully pregnant\, even though her diabetes could make childbirth life-threatening. Join us for a classic story of family\, strength in women\, and big southern hair. ------------- Sponsors with booth onsite: Lakeland Chiropractic Sheboygan Massage & Sisterhood Services Salon 511 ...and more to be announced!
X-ALT-DESC;FMTTYPE=text/html:Grab the ladies for movie night at the Weill! In honor of the movie&#39\;s 30th Anniversary see Steel Magnolias on the big screen at the Weill Center. Come early to enjoy samples and services from our local salons\, spas and more! Doors open at 6 p.m. for salon samples\; Movie starts at 7 p.m. A cash bar is also available. Tickets are $5 and include complimentary popcorn. STEEL MAGNOLIAS (PG) This hilarious and heartwarming story of life\, love and loss revolves around a group of friends in Louisiana. At the center of the group is Shelby\, newly married and joyfully pregnant\, even though her diabetes could make childbirth life-threatening. Join us for a classic story of family\, strength in women\, and big southern hair. ------------- Sponsors with booth onsite: Lakeland Chiropractic Sheboygan Massage &amp\; Sisterhood Services Salon 511 ...and more to be announced!
LOCATION:Weill Center for the Performing Arts
UID:e.361.14128
SEQUENCE:3
DTSTAMP:20260425T203401Z
URL:https://business.chambermanitowoccounty.org/events/details/steel-magnolias-movie-screening-14128
END:VEVENT

END:VCALENDAR
